BEGIN:VCALENDAR
VERSION:2.0
PRODID:-//National Criminal Justice Arts Alliance - ECPv6.3.5//NONSGML v1.0//EN
CALSCALE:GREGORIAN
METHOD:PUBLISH
X-WR-CALNAME:National Criminal Justice Arts Alliance
X-ORIGINAL-URL:https://artsincriminaljustice.org.uk
X-WR-CALDESC:Events for National Criminal Justice Arts Alliance
REFRESH-INTERVAL;VALUE=DURATION:PT1H
X-Robots-Tag:noindex
X-PUBLISHED-TTL:PT1H
BEGIN:VTIMEZONE
TZID:Europe/London
BEGIN:DAYLIGHT
TZOFFSETFROM:+0000
TZOFFSETTO:+0100
TZNAME:BST
DTSTART:20210328T010000
END:DAYLIGHT
BEGIN:STANDARD
TZOFFSETFROM:+0100
TZOFFSETTO:+0000
TZNAME:GMT
DTSTART:20211031T010000
END:STANDARD
END:VTIMEZONE
BEGIN:VEVENT
DTSTART;VALUE=DATE:20210517
DTEND;VALUE=DATE:20210801
DTSTAMP:20260419T144754
CREATED:20210510T085010Z
LAST-MODIFIED:20210510T085010Z
UID:7558-1621209600-1627775999@artsincriminaljustice.org.uk
SUMMARY:New exhibitions for summer 2021 from Koestler Arts
DESCRIPTION:[vc_row][vc_column][vc_column_text]from 17th May | online[/vc_column_text][vc_btn title=”Read more” style=”flat” shape=”square” color=”danger” link=”url:https%3A%2F%2Fwww.koestlerarts.org.uk%2Fexhibitions%2Fregional-exhibitions%2F||target:%20_blank|” css=”.vc_custom_1620635513263{margin-top: 9px !important;margin-bottom: 20px !important;}”][vc_column_text]As museums and galleries begin to reopen\, Koestler Arts presents three new exhibitions of artwork by people in the criminal justice system. The exhibitions showcase drawings\, paintings\, sculpture\, writing and music from around the country\, chosen from over 6\,500 artworks entered into the 2020 Koestler Awards. \nSoul Journey to Truth\, curated by performance artist and poet Lady Unchained\, opens at Manchester’s HOME on 17th May as part of the Ripples of Hope Festival. \nMy Path\, the first-ever Koestler Arts exhibition in Yorkshire\, has been curated by a group of young people in partnership with Sheffield Youth Justice Service and will open at Sheffield’s Millennium Gallery on 20th May. \nPower: Freedom to Create is a collaboration between Koestler Arts and the National Justice Museum and will showcase contemporary and historic artwork made in criminal justice settings alongside newly commissioned work by six artists and writers. Opening on 21st May\, the exhibition’s theme of power and creativity was inspired by a soap sculpture from the museum’s collection\, created by someone in prison\, whose power to connect with viewers sparked the idea for the project.[/vc_column_text][/vc_column][/vc_row]
URL:https://artsincriminaljustice.org.uk/event/new-exhibitions-for-summer-2021-from-koestler-arts/
CATEGORIES:Events and training
ATTACH;FMTTYPE=image/jpeg:https://artsincrimjustice.s3.eu-west-2.amazonaws.com/wp-content/uploads/2021/05/13113618/SJTT-web-banner-.jpg
END:VEVENT
BEGIN:VEVENT
DTSTART;TZID=Europe/London:20210608T143000
DTEND;TZID=Europe/London:20210608T160000
DTSTAMP:20260419T144754
CREATED:20210518T113738Z
LAST-MODIFIED:20210602T091141Z
UID:7573-1623162600-1623168000@artsincriminaljustice.org.uk
SUMMARY:Launch event: Enabling creativity in a restricted regime
DESCRIPTION:[vc_row][vc_column][vc_column_text]8th June | 2.30-4pm | online | free[/vc_column_text][vc_btn title=”Sign up here” style=”flat” shape=”square” color=”danger” link=”url:https%3A%2F%2Fclinks.org%2Fevent%2F363||target:%20_blank|” css=”.vc_custom_1621337078977{margin-top: 9px !important;margin-bottom: 20px !important;}”][vc_column_text]Join us to launch our new guide\, Creativity in a restricted regime: a guide for prison staff\, at an event made possible by the Rothschild Foundation. We will be joined by speakers from voluntary and arts organisations and policy experts to hear their perspective on enabling creativity in prisons throughout Covid-19. \nOver a challenging year\, we have seen incredible resilience and creativity on the part of those working to provide ongoing Covid-19-safe arts provision in prisons. The guide\, produced by the NCJAA on behalf of the Arts Forum\, showcases examples of this work and includes guidance for prison staff on how to make creative activity possible throughout Covid-19 and beyond. \nSpeakers to be announced soon. There will be an opportunity for Q&A. \nImage courtesy of Rideout. Credit: Paul Gent.[/vc_column_text][/vc_column][/vc_row]
URL:https://artsincriminaljustice.org.uk/event/launch-event-enabling-creativity-in-a-restricted-regime/
CATEGORIES:Events and training,NCJAA events and training
ATTACH;FMTTYPE=image/png:https://artsincrimjustice.s3.eu-west-2.amazonaws.com/wp-content/uploads/2021/05/13113616/18-launch-featured.png
END:VEVENT
BEGIN:VEVENT
DTSTART;TZID=Europe/London:20210609T141000
DTEND;TZID=Europe/London:20210609T145000
DTSTAMP:20260419T144754
CREATED:20210524T163503Z
LAST-MODIFIED:20210524T163503Z
UID:7580-1623247800-1623250200@artsincriminaljustice.org.uk
SUMMARY:Applied Shakespeare in the Criminal Justice System
DESCRIPTION:[vc_row][vc_column][vc_column_text]9th June | 2:10-2:50pm | online | free[/vc_column_text][vc_btn title=”Sign up here” style=”flat” shape=”square” color=”danger” link=”url:https%3A%2F%2Fwww.birmingham.ac.uk%2Fschools%2Fedacs%2Fdepartments%2Fshakespeare%2Fevents%2F2021%2Fshakespeare-beyond-borders-alliance.aspx||target:%20_blank|” css=”.vc_custom_1621873571081{margin-top: 9px !important;margin-bottom: 20px !important;}”][vc_column_text]Learn more about how Shakespeare is used in criminal justice settings around the world at this panel on the topic of International Networks and Communities: Applied Shakespeare in the Criminal Justice System. Dr Rowan Mackenzie (who spoke to us in 2019 about her experience of rehearsing and performing an adaptation of Macbeth in HMP Gartree in a blog which you can read here) will be joined in conversation with representatives from the Shakespeare in Prisons Network\, Shakespeare Prison Project\, Detroit Public Theatre and other institutions\, including: \n\nStratis Panourios\, Theatre and Cinema Director\, Greece\nDr Jonathan Shailor\, University of Wisconsin-Parkside and Director of Shakespeare Prison Project\nFrannie Shepherd-Bates\, Director of Shakespeare in Prison\, Detroit Public Theatre\nMichael Shortt\, Alumni of Shakespeare Prison Project\nHaisan Williams\, Alumni of Shakespeare Prison Project\n\nThe conversation forms part of a three-day event to celebrate the launch of the Shakespeare Beyond Borders Alliance\, a new initiative which brings together Shakespeare practitioners\, directors\, government representatives\, scholars\, and institutions with the aim of fostering dialogue\, collaboration and mutual learning across national\, social and disciplinary borders. \nImage courtesy of Dr Rowan Mackenzie.[/vc_column_text][/vc_column][/vc_row]
URL:https://artsincriminaljustice.org.uk/event/applied-shakespeare-in-the-criminal-justice-system/
CATEGORIES:Events and training
ATTACH;FMTTYPE=image/jpeg:https://artsincrimjustice.s3.eu-west-2.amazonaws.com/wp-content/uploads/2019/02/13113927/HMP-Gartree-Macbeth-crowns-Oct-18_courtesy-Rowan-MacKenzie-scaled.jpg
END:VEVENT
BEGIN:VEVENT
DTSTART;TZID=Europe/London:20210617T110000
DTEND;TZID=Europe/London:20210617T123000
DTSTAMP:20260419T144754
CREATED:20210421T095150Z
LAST-MODIFIED:20210421T095150Z
UID:7543-1623927600-1623933000@artsincriminaljustice.org.uk
SUMMARY:NCJAA network hangout
DESCRIPTION:[vc_row][vc_column][vc_column_text]17th June | 11:00-12:30 | online | free[/vc_column_text][vc_btn title=”Sign up here” style=”flat” shape=”square” color=”danger” link=”url:https%3A%2F%2Fwww.clinks.org%2Fevent%2F337||target:%20_blank|” css=”.vc_custom_1618998415148{margin-top: 9px !important;margin-bottom: 20px !important;}”][vc_column_text]Join the NCJAA and others working in arts and criminal justice for a virtual hang out. This is an opportunity for our network to come together to talk\, share\, and learn from each other during these challenging times. \nThe NCJAA will chair the conversation\, but please note that this will be a network-led discussion. We particularly welcome arts in criminal justice freelancers\, practitioners and anyone else seeking to connect with others in the sector to give and gain support. \nSpaces are limited\, so please register if you would like to attend. After registering\, you will receive a confirmation email containing all information required to join the meeting\, including a password. \nWe’re committed to making everything we do accessible to everyone. If you have any accessibility needs please let us know when you book and we’ll do our best to meet them. \nIf you have any issues registering or questions about the meetings\, please email info@artsincriminaljustice.org.uk.[/vc_column_text][/vc_column][/vc_row]
URL:https://artsincriminaljustice.org.uk/event/ncjaa-network-hangout/
ATTACH;FMTTYPE=image/png:https://artsincrimjustice.s3.eu-west-2.amazonaws.com/wp-content/uploads/2021/04/13113618/hangout-drawings.png
END:VEVENT
BEGIN:VEVENT
DTSTART;TZID=Europe/London:20210624T110000
DTEND;TZID=Europe/London:20210624T130000
DTSTAMP:20260419T144754
CREATED:20210524T162340Z
LAST-MODIFIED:20210524T162340Z
UID:7578-1624532400-1624539600@artsincriminaljustice.org.uk
SUMMARY:Online information session with Geese Theatre Company
DESCRIPTION:[vc_row][vc_column][vc_column_text]24th June | 11am-1pm | online | £5[/vc_column_text][vc_btn title=”Sign up here” style=”flat” shape=”square” color=”danger” link=”url:https%3A%2F%2Fwww.eventbrite.co.uk%2Fe%2Fonline-information-session-with-geese-theatre-company-tickets-156111141627||target:%20_blank|” css=”.vc_custom_1621873142641{margin-top: 9px !important;margin-bottom: 20px !important;}”][vc_column_text]Geese Theatre Company is hosting monthly online information sessions for anyone who would like to know more about their work in theatre and criminal justice. \nTheatre practitioners\, artists\, students\, criminal justice and social welfare professionals are invited to join Geese to find out about their theatre-based groupwork\, performances and work with masks. \nParticipants have the opportunity to: \n\nHear about the range of their work\nLearn about their ethos and theoretical approach\nSee filmed examples\nAsk their own questions\n\nImage courtesy of Geese Theatre[/vc_column_text][/vc_column][/vc_row]
URL:https://artsincriminaljustice.org.uk/event/online-information-session-with-geese-theatre-company/
CATEGORIES:Events and training
ATTACH;FMTTYPE=image/jpeg:https://artsincrimjustice.s3.eu-west-2.amazonaws.com/wp-content/uploads/2018/05/13114103/geese2.jpg
END:VEVENT
END:VCALENDAR