BEGIN:VCALENDAR
VERSION:2.0
PRODID:-//National Criminal Justice Arts Alliance - ECPv6.3.5//NONSGML v1.0//EN
CALSCALE:GREGORIAN
METHOD:PUBLISH
X-ORIGINAL-URL:https://artsincriminaljustice.org.uk
X-WR-CALDESC:Events for National Criminal Justice Arts Alliance
REFRESH-INTERVAL;VALUE=DURATION:PT1H
X-Robots-Tag:noindex
X-PUBLISHED-TTL:PT1H
BEGIN:VTIMEZONE
TZID:Europe/London
BEGIN:DAYLIGHT
TZOFFSETFROM:+0000
TZOFFSETTO:+0100
TZNAME:BST
DTSTART:20210328T010000
END:DAYLIGHT
BEGIN:STANDARD
TZOFFSETFROM:+0100
TZOFFSETTO:+0000
TZNAME:GMT
DTSTART:20211031T010000
END:STANDARD
END:VTIMEZONE
BEGIN:VEVENT
DTSTART;TZID=Europe/London:20210112T180000
DTEND;TZID=Europe/London:20210112T190000
DTSTAMP:20260419T233902
CREATED:20210108T095107Z
LAST-MODIFIED:20210108T120846Z
UID:7334-1610474400-1610478000@artsincriminaljustice.org.uk
SUMMARY:Culture Recovery Fund Grants Webinar 1 - ACE
DESCRIPTION:[vc_row][vc_column][vc_column_text]The second round of the Culture Recovery Fund grants programme is now open to application until 26th January for cultural organisations based in England. To help explain the application process and give more information\, Arts Council England (ACE) are holding a webinar series throughout January that will cover: \n\nWho can apply and how much you can apply for\nHow the Grants programme interacts with the Repayable Finance programme (a second element of the Culture Recovery Fund Arts Council England are also administering)\nQuestions in the application\nHow to demonstrate cultural significance\nHow to present supporting evidence in the mandatory application templates\, including cashflow\nWhat any potential applicants can to do to prepare with some key deadlines and dates\n\nPlease note this webinar is repeated on the 12th\, 14th and 18th of January.[/vc_column_text][vc_btn title=”Book now” style=”flat” shape=”square” color=”danger” link=”url:https%3A%2F%2Fwww.eventbrite.co.uk%2Fe%2Fculture-recovery-fund-grants-second-round-january-webinars-tickets-133334247323||target:%20_blank|” css=”.vc_custom_1610100839402{margin-top: 9px !important;}”][/vc_column][/vc_row]
URL:https://artsincriminaljustice.org.uk/event/culture-recovery-fund-grants-webinar-from-ace/
LOCATION:Online
CATEGORIES:Events and training
ATTACH;FMTTYPE=image/png:https://artsincrimjustice.s3.eu-west-2.amazonaws.com/wp-content/uploads/2021/01/13113628/HFC_Logo-Only.png
END:VEVENT
BEGIN:VEVENT
DTSTART;TZID=Europe/London:20210114T100000
DTEND;TZID=Europe/London:20210114T110000
DTSTAMP:20260419T233902
CREATED:20210108T101447Z
LAST-MODIFIED:20210108T120840Z
UID:7342-1610618400-1610622000@artsincriminaljustice.org.uk
SUMMARY:Culture Recovery Fund Grants Webinar 2 - ACE
DESCRIPTION:[vc_row][vc_column][vc_column_text]The second round of the Culture Recovery Fund grants programme is now open to application until 26th January for cultural organisations based in England. To help explain the application process and give more information\, Arts Council England (ACE) are holding a webinar series throughout January that will cover: \n\nWho can apply and how much you can apply for\nHow the Grants programme interacts with the Repayable Finance programme (a second element of the Culture Recovery Fund Arts Council England are also administering)\nQuestions in the application\nHow to demonstrate cultural significance\nHow to present supporting evidence in the mandatory application templates\, including cashflow\nWhat any potential applicants can to do to prepare with some key deadlines and dates\n\nPlease note this webinar is repeated on the 12th\, 14th and 18th of January.[/vc_column_text][vc_btn title=”Book now” style=”flat” shape=”square” color=”danger” link=”url:https%3A%2F%2Fwww.eventbrite.co.uk%2Fe%2Fculture-recovery-fund-grants-second-round-january-webinars-tickets-133334247323||target:%20_blank|” css=”.vc_custom_1610100915234{margin-top: 9px !important;}”][/vc_column][/vc_row]
URL:https://artsincriminaljustice.org.uk/event/culture-recovery-fund-grants-webinar-2-ace/
LOCATION:Online
CATEGORIES:Events and training
ATTACH;FMTTYPE=image/png:https://artsincrimjustice.s3.eu-west-2.amazonaws.com/wp-content/uploads/2021/01/13113628/HFC_Logo-Only.png
END:VEVENT
BEGIN:VEVENT
DTSTART;TZID=Europe/London:20210118T120000
DTEND;TZID=Europe/London:20210118T130000
DTSTAMP:20260419T233902
CREATED:20210108T101831Z
LAST-MODIFIED:20210108T120810Z
UID:7349-1610971200-1610974800@artsincriminaljustice.org.uk
SUMMARY:Culture Recovery Fund Grants Webinar 3 - ACE
DESCRIPTION:[vc_row][vc_column][vc_column_text]The second round of the Culture Recovery Fund grants programme is now open to application until 26th January for cultural organisations based in England. To help explain the application process and give more information\, Arts Council England (ACE) are holding a webinar series throughout January that will cover: \n\nWho can apply and how much you can apply for\nHow the Grants programme interacts with the Repayable Finance programme (a second element of the Culture Recovery Fund Arts Council England are also administering)\nQuestions in the application\nHow to demonstrate cultural significance\nHow to present supporting evidence in the mandatory application templates\, including cashflow\nWhat any potential applicants can to do to prepare with some key deadlines and dates\n\nPlease note this webinar is repeated on the 12th\, 14th and 18th of January.[/vc_column_text][vc_btn title=”Book now” style=”flat” shape=”square” color=”danger” link=”url:https%3A%2F%2Fwww.eventbrite.co.uk%2Fe%2Fculture-recovery-fund-grants-second-round-january-webinars-tickets-133334247323||target:%20_blank|” css=”.vc_custom_1610101075564{margin-top: 9px !important;}”][/vc_column][/vc_row]
URL:https://artsincriminaljustice.org.uk/event/culture-recovery-fund-grants-webinar-2-ace-2/
LOCATION:Online
CATEGORIES:Events and training
ATTACH;FMTTYPE=image/png:https://artsincrimjustice.s3.eu-west-2.amazonaws.com/wp-content/uploads/2021/01/13113628/HFC_Logo-Only.png
END:VEVENT
BEGIN:VEVENT
DTSTART;TZID=Europe/London:20210120T140000
DTEND;TZID=Europe/London:20210120T153000
DTSTAMP:20260419T233902
CREATED:20210108T105715Z
LAST-MODIFIED:20210108T105715Z
UID:7359-1611151200-1611156600@artsincriminaljustice.org.uk
SUMMARY:January theatre & criminal justice Q&A with Geese Theatre
DESCRIPTION:[vc_row][vc_column][vc_column_text]Geese Theatre Company is hosting a free monthly online Q&A exploring the work of Geese and the broader arts in criminal justice sector. Join one of Geese’s expert practitioners to find out more and ask questions about their work in criminal justice and social welfare settings. \nThe sessions are aimed at practitioners\, artists\, students and other people interested in discovering more about theatre in criminal justice from all over the world and will focus on a different theme each month.[/vc_column_text][vc_btn title=”Book now” style=”flat” shape=”square” color=”danger” link=”url:https%3A%2F%2Fwww.eventbrite.com%2Fe%2Ffree-online-qa-session-with-geese-theatre-company-tickets-135504972019||target:%20_blank|” css=”.vc_custom_1610103168423{margin-top: 9px !important;margin-bottom: 9px !important;}”][/vc_column][/vc_row]
URL:https://artsincriminaljustice.org.uk/event/january-theatre-criminal-justice-qa-with-geese-theatre/
LOCATION:Online
CATEGORIES:Events and training
ATTACH;FMTTYPE=image/jpeg:https://artsincrimjustice.s3.eu-west-2.amazonaws.com/wp-content/uploads/2021/01/13113627/geese-event.jpg
END:VEVENT
BEGIN:VEVENT
DTSTART;TZID=Europe/London:20210126T170000
DTEND;TZID=Europe/London:20210126T180000
DTSTAMP:20260419T233902
CREATED:20210108T104654Z
LAST-MODIFIED:20210108T104654Z
UID:7354-1611680400-1611684000@artsincriminaljustice.org.uk
SUMMARY:The Forgotten People: Film Screening & Q&A
DESCRIPTION:[vc_row][vc_column][vc_column_text]The Forgotten People\, a newly commissioned poem and film written and performed by artist and poet Lady Unchained\, highlights racial inequality in the UK prison system. It was written at the Rotterdam Summer Lab in 2019\, perfected during the Black Lives Matter protests in summer 2020 and filmed in South London. \nJoin Lady Unchained and filmmaker Tracy Kiryango for a free screening of the film\, followed by an online conversation between the creatives and Q&A about the making of the film. \nCaptioning and BSL interpretation are available.[/vc_column_text][vc_btn title=”Book now” style=”flat” shape=”square” color=”danger” link=”url:https%3A%2F%2Fwww.artsadmin.co.uk%2Fevents%2Fthe-forgotten-people-lady-unchained-and-tracy-kiryango-in-conversation%2F||target:%20_blank|” css=”.vc_custom_1610102540812{margin-top: 9px !important;margin-bottom: 9px !important;}”][/vc_column][/vc_row]
URL:https://artsincriminaljustice.org.uk/event/the-forgotten-people-film-screening-qa/
LOCATION:Online
CATEGORIES:Events and training
ATTACH;FMTTYPE=image/jpeg:https://artsincrimjustice.s3.eu-west-2.amazonaws.com/wp-content/uploads/2021/01/13113628/brenda.jpg
END:VEVENT
BEGIN:VEVENT
DTSTART;TZID=Europe/London:20210128T150000
DTEND;TZID=Europe/London:20210128T163000
DTSTAMP:20260419T233902
CREATED:20210114T093249Z
LAST-MODIFIED:20210119T174932Z
UID:7368-1611846000-1611851400@artsincriminaljustice.org.uk
SUMMARY:NCJAA network hang out: Staying connected through another lockdown
DESCRIPTION:[vc_row][vc_column][vc_column_text]28th January 2020\n15:00 – 16:30\nOnline\nFree[/vc_column_text][/vc_column][/vc_row][vc_row][vc_column][vc_btn title=”Book now” style=”flat” shape=”square” color=”danger” link=”url:https%3A%2F%2Fclinks.org%2Fevent%2F331||target:%20_blank|” css=”.vc_custom_1610974648815{margin-top: 9px !important;margin-bottom: 20px !important;}”][vc_column_text]The National Criminal Justice Arts Alliance (NCJAA) invites you to join us for a virtual hang out. This is an opportunity for our network to come together to talk\, share\, and learn from each other during these challenging times. \nAt this event\, we will discuss how we can maintain and build connections with each other and with the people in prison who have now been living under restricted regimes for almost a year. Join us to hear from others in the network and share your reflections\, successes\, and hopes for the year ahead. \nThroughout 2020\, arts in criminal justice organisations have had to radically adapt provision and approaches to stay connected with the people our sector serves. The new year brings new challenges – and new opportunities to use the experiences of the last year to engage creatively and meaningfully with people in the criminal justice system. \nThe NCJAA will chair the conversation\, but please note that this will be a network-led discussion. We particularly welcome arts in criminal justice freelancers\, practitioners and anyone else seeking to connect with others in the network to give and gain support. \nSpaces are limited\, so please register if you would like to attend. After registering\, you will receive a confirmation email containing all information required to join the meeting\, including a password. \nWe’re committed to making everything we do accessible to everyone. If you have any accessibility needs please let us know when you book and we’ll do our best to meet them. \nIf you have any issues registering or questions about the meetings\, please email info@artsincriminaljustice.org.uk. \nKeep checking the NCJAA website for further information on future events or sign up to the NCJAA newsletter here. \n“It was actually a really fun and refreshing zoom session – breaking away into groups and having little chats together was something new and it was great to meet fellows who work in the CJS.” – NCJAA hang out attendee \n[/vc_column_text][/vc_column][/vc_row]
URL:https://artsincriminaljustice.org.uk/event/ncjaa-network-hang-out-staying-connected-through-another-lockdown/
LOCATION:Online
CATEGORIES:Featured Events,NCJAA events and training
ATTACH;FMTTYPE=image/jpeg:https://artsincrimjustice.s3.eu-west-2.amazonaws.com/wp-content/uploads/2019/03/13113806/NCJAA-conference-2019.-Credit-Elijah-Thompson-148.jpg
END:VEVENT
END:VCALENDAR