BEGIN:VCALENDAR
VERSION:2.0
PRODID:-//National Criminal Justice Arts Alliance - ECPv6.3.5//NONSGML v1.0//EN
CALSCALE:GREGORIAN
METHOD:PUBLISH
X-ORIGINAL-URL:https://artsincriminaljustice.org.uk
X-WR-CALDESC:Events for National Criminal Justice Arts Alliance
REFRESH-INTERVAL;VALUE=DURATION:PT1H
X-Robots-Tag:noindex
X-PUBLISHED-TTL:PT1H
BEGIN:VTIMEZONE
TZID:Europe/London
BEGIN:DAYLIGHT
TZOFFSETFROM:+0000
TZOFFSETTO:+0100
TZNAME:BST
DTSTART:20190331T010000
END:DAYLIGHT
BEGIN:STANDARD
TZOFFSETFROM:+0100
TZOFFSETTO:+0000
TZNAME:GMT
DTSTART:20191027T010000
END:STANDARD
BEGIN:DAYLIGHT
TZOFFSETFROM:+0000
TZOFFSETTO:+0100
TZNAME:BST
DTSTART:20200329T010000
END:DAYLIGHT
BEGIN:STANDARD
TZOFFSETFROM:+0100
TZOFFSETTO:+0000
TZNAME:GMT
DTSTART:20201025T010000
END:STANDARD
END:VTIMEZONE
BEGIN:VEVENT
DTSTART;VALUE=DATE:20190726
DTEND;VALUE=DATE:20191104
DTSTAMP:20260421T000808
CREATED:20190802T155817Z
LAST-MODIFIED:20190802T160201Z
UID:6372-1564099200-1572825599@artsincriminaljustice.org.uk
SUMMARY:The Trial
DESCRIPTION:26th July – 26th August 2019\, Spike Island\, Cork\n29th August – 12th September 2019\, Lifford Courthouse\, Donegal\n26th September – 3rd November 2019\, Dublin Castle\, Dublin \nThe Trial is a visual art installation on healthcare and human rights in the Irish criminal justice system\, created by Sinead McCann and made in collaboration with men from the Bridge Project Dublin who have lived prison experiences. \nThe project accompanies research by University College Dublin historians\, Catherine Cox and Fiachra Byrne for the project ‘Prisoners\, Medical Care and Entitlement to Health in England and Ireland\, 1850-2000’. \nOn multiple screens\, three characters – Tommy\, Charlie\, Neili – tell the real life stories of those who have been held or worked in Irish penal institutions during the nineteenth and twentieth centuries. \nThe Trial is produced in collaboration with Theatre of the Oppressed specialist Sarah Meaney\, and Mary Caffrey and Dan Monk of Sixbetween video production company. \nFind out more and book \n\nImage courtesy of Sinead McCann & Sixbetween
URL:https://artsincriminaljustice.org.uk/event/the-trial/
LOCATION:ireland – generic\, Various\, Ireland
ATTACH;FMTTYPE=image/jpeg:https://artsincrimjustice.s3.eu-west-2.amazonaws.com/wp-content/uploads/2019/08/13113728/The-Trial-Video-Stills-by-Sixbetween-%C2%A9-Sinead-McCann-Sixbetween..jpg
END:VEVENT
BEGIN:VEVENT
DTSTART;VALUE=DATE:20190828
DTEND;VALUE=DATE:20200113
DTSTAMP:20260421T000808
CREATED:20191024T150122Z
LAST-MODIFIED:20191024T150936Z
UID:6632-1566950400-1578873599@artsincriminaljustice.org.uk
SUMMARY:I am the Coyote
DESCRIPTION:28th August 2019 – 12th January 2020\nUniversity of Hull\nFree \nNovus\, the University of Hull and HMP Humber have collaborated on an exhibition titled I am the Coyote\, which aims to show the power of art as a rehabilitation tool in prisons over 45 years. \nI am the Coyote includes art produced from the Special Unit 74 and HMP Humber’s GRAFT Studio\, the largest art college in the UK prison sector and a unique space where prisoners are able to focus on creativity and its benefits. Colour photographs document the group thinking and creative process as well as the experiential teaching strategies. \nThe exhibition has been commissioned as part of the University’s Culture Campus initiative and is on show at the Brynmor Jones Library. \nOur vision is to wholeheartedly embrace provocative topics and encourage discussion and debate across our campus. This exhibition will do just that and we couldn’t be more delighted.\nMarianne Lewsley-Stier\, Head of Culture Campus at the University of Hull \nThe exhibition is accompanied by a series of free workshops\, screenings and debates. \n\nFind out more here\n\nImage courtesy of Culture Campus\, University of Hull
URL:https://artsincriminaljustice.org.uk/event/i-am-the-coyote/
LOCATION:Hull\, Hull\, United Kingdom
CATEGORIES:Events and training
ATTACH;FMTTYPE=image/jpeg:https://artsincrimjustice.s3.eu-west-2.amazonaws.com/wp-content/uploads/2019/10/13113704/coyotte.jpg
END:VEVENT
BEGIN:VEVENT
DTSTART;TZID=Europe/London:20190907T080000
DTEND;TZID=Europe/London:20191013T170000
DTSTAMP:20260421T000808
CREATED:20190911T095233Z
LAST-MODIFIED:20190911T095425Z
UID:6497-1567843200-1570986000@artsincriminaljustice.org.uk
SUMMARY:Women's Support Centre: New Beginnings Art Awards 2019
DESCRIPTION:7th September – 13th October 2019\nThe Lightbox\, Surrey\n£3 \nThe Women’s Support Centre aims to prevent women coming into contact with the criminal justice system by promoting participation and achievement in the arts. It aims to motivate\, inspire and help women to develop the skills needed to lead a more positive life. \nEvery year the Women’s Support Centre hosts an Art Awards for women to submit artwork from in prison or through visiting the Centre. The entries are exhibited at the Lightbox Gallery. \nThis theme of this year’s exhibition and Awards is ‘Journey Within’. \n\nFind out more\n\nImage courtesy of Women’s Support Centre Surrey and Lightbox Gallery
URL:https://artsincriminaljustice.org.uk/event/womens-support-centre-new-beginnings-art-awards-2019/
LOCATION:surrey\, Surrey\, United Kingdom
CATEGORIES:Events and training
ATTACH;FMTTYPE=image/jpeg:https://artsincrimjustice.s3.eu-west-2.amazonaws.com/wp-content/uploads/2019/09/13113723/womens-support-centre.jpg
END:VEVENT
BEGIN:VEVENT
DTSTART;VALUE=DATE:20190919
DTEND;VALUE=DATE:20191104
DTSTAMP:20260421T000808
CREATED:20190403T121301Z
LAST-MODIFIED:20190815T102238Z
UID:5934-1568851200-1572825599@artsincriminaljustice.org.uk
SUMMARY:Koestler exhibition 2019
DESCRIPTION:19th September – 3rd November 2019\nSouthbank Centre\, London\nFREE \nOpening festival: 18th September \nKoestler Arts‘ exhibition of art entered in to its annual awards continues this year at London’s Southbank Centre. \nThe award-winning saxophonist and MC Soweto Kinch will be curating the exhibition\, following the footsteps of Antony Gormley and Benjamin Zephaniah. Soweto’s themes range from slavery and emancipation to sacred geometry. \nOver 150 artworks will be on display\, from music and poetry to paintings\, drawings and sculpture. \nTitled Another Me\, the exhibition invites visitors to reassess their perceptions of people who have spent time inside. \nFind out more here \n\nThe Koestler Arts is the UK’s best-known prison arts charity. Each year it encourages over 3\,500 people within the criminal justice system to express themselves creatively and learn new skills by entering work to their annual Koestler Awards. \n\nImage: The Test\, HM Prison Greenock. Courtesy of Koestler Arts
URL:https://artsincriminaljustice.org.uk/event/koestler-exhibition-2019/
LOCATION:London – Generic\, London\, United Kingdom
CATEGORIES:Events and training
ATTACH;FMTTYPE=image/jpeg:https://artsincrimjustice.s3.eu-west-2.amazonaws.com/wp-content/uploads/2019/04/13113734/another-me.jpg
END:VEVENT
BEGIN:VEVENT
DTSTART;VALUE=DATE:20190924
DTEND;VALUE=DATE:20191002
DTSTAMP:20260421T000808
CREATED:20190822T101916Z
LAST-MODIFIED:20190826T153941Z
UID:6453-1569283200-1569974399@artsincriminaljustice.org.uk
SUMMARY:HMPPS grant programme information events
DESCRIPTION:24th September\, York\n26th September\, Cardiff\n1st October\, London \nFree \nHM Prison and Probation Service (HMPPS) is shortly launching its next grant funding programme for 2020-2022. Clinks and HMPPS are holding three information events to provide further details on the grant programme to voluntary organisations who may wish to apply. \nThe grant programme aims to enable the voluntary sector to contribute to better outcomes for people in public sector prisons\, the National Probation Service and youth custody services. The events would therefore be suitable for organisations working in these areas. \nThe information events will provide an overview of the grant programme; information on evidencing outcomes; how Clinks can support voluntary organisations; the procurement process; equalities; and a Q&A. \nDue to the anticipated demand\, tickets will initially be limited to one person per organisation. Please check with your organisation prior to booking. \n\nBook here\n\nImage: NCJAA annual conference 2017
URL:https://artsincriminaljustice.org.uk/event/hmpps-grant-programme-information-events/
LOCATION:York\, Cardiff\, London\, York\, Cardiff\, London\, United Kingdom
CATEGORIES:Events and training
END:VEVENT
BEGIN:VEVENT
DTSTART;TZID=Europe/London:20191001T193000
DTEND;TZID=Europe/London:20191005T220000
DTSTAMP:20260421T000808
CREATED:20190731T093733Z
LAST-MODIFIED:20190731T093930Z
UID:6347-1569958200-1570312800@artsincriminaljustice.org.uk
SUMMARY:I’d Rather Go Blind
DESCRIPTION:1st – 5th October 2019\nOmnibus Theatre\, London\n 7:30pm\nFrom £13 \nFutures Theatre presents I’d Rather Go Blind\, a new play by Somalia Seaton shaped by the stories of women who all have lived experience of the criminal justice system. It presents a poignant insight into the fear around motherhood. \nI see you strong\, I see you spinning on your own axis – full of life – full of joy. I see you like me when I turned 18 – unfiltered – ready to conquer the world head held high – heart strong – I see you growing everyday.” \nAn Alternative Life\nThe play is the third commission from Futures Theatre’s creative engagement project An Alternative Life 2015 – 2017. \nDuring 2017\, the theatre worked in partnership with The Beth Centre in Lambeth\, London\, with women who all have lived experience of the criminal justice system. They commissioned playwright Somalia Seaton to write a play informed by their challenges and their dreams. \nI’d Rather Go Blind is the result and is produced in celebration of these extraordinary women. \nFind out more and book\n\nImage courtesy of Futures Theatre\, credit Desk Tidy Design
URL:https://artsincriminaljustice.org.uk/event/id-rather-go-blind/
LOCATION:London – Generic\, London\, United Kingdom
CATEGORIES:Events and training
ATTACH;FMTTYPE=image/png:https://artsincrimjustice.s3.eu-west-2.amazonaws.com/wp-content/uploads/2019/07/13113728/IRGB-final-title-artwork.png
END:VEVENT
BEGIN:VEVENT
DTSTART;TZID=Europe/London:20191004T150000
DTEND;TZID=Europe/London:20191004T170000
DTSTAMP:20260421T000808
CREATED:20190916T160032Z
LAST-MODIFIED:20190916T160202Z
UID:6526-1570201200-1570208400@artsincriminaljustice.org.uk
SUMMARY:Clean Break's New Work Showcase
DESCRIPTION:4th October 2019\, 3pm\n£5\nBunker Theatre\, London \nClean Break is opening its doors to offer you the chance to see two of its new works in development. \nThe afternoon will consist of two script-in-hand readings\, Blis-ta by Sonya Hale and Not Pretty Like The Rainbow by Daisy King. \nEach play is the culmination of a commission awarded by Clean Break to writers who have previously been engaged with the women and criminal justice theatre company as Members for many years\, and a chance for them to continue conversations and to start new ones. \n\nBook here\n\nImage courtesy of Clean Break
URL:https://artsincriminaljustice.org.uk/event/clean-breaks-new-work-showcase/
LOCATION:London – Generic\, London\, United Kingdom
CATEGORIES:Events and training
ATTACH;FMTTYPE=image/png:https://artsincrimjustice.s3.eu-west-2.amazonaws.com/wp-content/uploads/2019/09/13113710/New-Work-Showcase.png
END:VEVENT
BEGIN:VEVENT
DTSTART;VALUE=DATE:20191005
DTEND;VALUE=DATE:20191025
DTSTAMP:20260421T000808
CREATED:20190924T164309Z
LAST-MODIFIED:20190924T164738Z
UID:6542-1570233600-1571961599@artsincriminaljustice.org.uk
SUMMARY:Koestler Arts at Southbank Centre in October
DESCRIPTION:Koestler Arts presents a series of events to coincide with its annual exhibition at Southbank Centre\, this year titled Another Me. All events are free to attend unless otherwise stated. \n\nVoices Out Loud\nSaturday 5th\, Sunday 13th October\nActors from Synergy Theatre Project\, with lived experience of the criminal justice system\, perform texts by Koestler Awards entrants. \nKoestler Curates: Friday Lunch\nFriday 11th October\nThe Irene Taylor Trust has been running its through the gate programme\, Sounding Out\, since 2012. The Pinnacle – the fourth band formed on the programme – will perform some of their original tracks live. \nKoestler Curates: Friday Lunch\nFriday 1st November\nThe Liberty Choir\, a community choir made up of those with lived experience of the criminal justice system and those without\, will perform live. The choir runs programmes in prisons\, engaging prisoners in the power of singing together. \nStory Circle\nThursday 24 October\nImprovise a collective story as part of a story circle in the exhibition space at Another Me. In collaboration with Hammersmith and Fulham Libraries\, storyteller Richard Neville has been trialling story-making sessions with groups including prisoners. \nVoices from Prison\nThursday 24th October (£8)\nHear powerful performances of written and recorded works entered into the 2019 Koestler Awards for artwork made by people in prison. Hosted by spoken word artist and Koestler Awards judge Wanda Canton. \n\nFind out more and book here\n\nImage: Reinforcements\, HM Prison Standford Hill (Sheppey Cluster)\, Needlecraft\, 2019\, courtesy of Koestler Arts
URL:https://artsincriminaljustice.org.uk/event/koestler-arts-at-southbank-centre-in-october/
LOCATION:London – Generic\, London\, United Kingdom
CATEGORIES:Events and training
ATTACH;FMTTYPE=image/jpeg:https://artsincrimjustice.s3.eu-west-2.amazonaws.com/wp-content/uploads/2019/09/13113709/Reinforcements-HM-Prison-Standford-Hill-Sheppey-Cluster-Needlecraft-2019.jpg
END:VEVENT
BEGIN:VEVENT
DTSTART;VALUE=DATE:20191006
DTEND;VALUE=DATE:20191008
DTSTAMP:20260421T000808
CREATED:20190828T094521Z
LAST-MODIFIED:20190828T094521Z
UID:6473-1570320000-1570492799@artsincriminaljustice.org.uk
SUMMARY:On Hold
DESCRIPTION:6th – 7th October 2019\nCamden People’s Theatre\, London\nPay what you can \nPresented by Tale Be Told Theatre\, On Hold is a take on the housing crisis from the viewpoint of families living in temporary accommodation. \nBrought to Camden People’s Theatre as part of the One Festival of Homeless Arts\, and performed in the round\, the show combines personal accounts from the cast with verbatim testimony from families living in temporary accommodation. \nThese are broken up by moments of clowning and surrealism\, echoing the hoops families must go through as they have their lives put ‘on hold’. \nThis darkly comic play aims to lift the lid on what it means not to have a home to call your own and reveal the human truth behind the statistics of the housing crisis. \n\nBook here\n\nImage courtesy of Tale Be Told Theatre
URL:https://artsincriminaljustice.org.uk/event/on-hold/
LOCATION:London – Generic\, London\, United Kingdom
CATEGORIES:Events and training
ATTACH;FMTTYPE=image/jpeg:https://artsincrimjustice.s3.eu-west-2.amazonaws.com/wp-content/uploads/2019/08/13113724/On-Hold-courtesy-of-Tale-Be-Told-Theatre.jpg
END:VEVENT
BEGIN:VEVENT
DTSTART;VALUE=DATE:20191009
DTEND;VALUE=DATE:20191011
DTSTAMP:20260421T000808
CREATED:20190725T133618Z
LAST-MODIFIED:20190725T133618Z
UID:6327-1570579200-1570751999@artsincriminaljustice.org.uk
SUMMARY:Playing the Game
DESCRIPTION:9th – 10th October 2019\nBirmingham Rep\nFrom £10 \nGeese Theatre Company and Helena Enright present Playing The Game\, a theatre of testimony play created as part of a Wellcome Trust-funded research project with the University of Warwick. \nIt uses material from a series of drama workshops and interviews conducted with residents and staff at HMP Peterborough alongside archival materials and testimonies from the past. \nThis production is part of BEDLAM Festival\, a celebration of the arts\, mental health and wellbeing. \nFind out more and book here \n\nImage courtesy of Geese Theatre Company
URL:https://artsincriminaljustice.org.uk/event/playing-the-game/
LOCATION:Birmingham – Generic\, Birmingham\, United Kingdom
CATEGORIES:Events and training
ATTACH;FMTTYPE=image/jpeg:https://artsincrimjustice.s3.eu-west-2.amazonaws.com/wp-content/uploads/2018/05/13114103/geese2.jpg
END:VEVENT
BEGIN:VEVENT
DTSTART;TZID=Europe/London:20191009T143000
DTEND;TZID=Europe/London:20191009T163000
DTSTAMP:20260421T000808
CREATED:20190924T153324Z
LAST-MODIFIED:20190924T153324Z
UID:6539-1570631400-1570638600@artsincriminaljustice.org.uk
SUMMARY:Readings of 2019 Koestler Award-winning plays
DESCRIPTION:Wednesday 9th October\n2.30pm\nRoyal Court Theatre\, London\nFree \nSynergy Theatre Project seeks out new plays written by prisoners and ex-prisoners. The charity will be showcasing extracts from three plays written by writers in prisons from across the UK in a special event at The Royal Court Theatre. \nThe plays being read out won this year’s Koestler Arts Awards\, and were judged by a panel of theatre professionals and ex-prisoners. \nThis event is free but can only booked\, subject to availability\, directly through Synergy. To attend\, email studio@synergytheatreproject.co.uk including ‘Koestler Arts Awards event’ in the subject line and provide your name\, a contact telephone number and the number of seats you would like. Synergy will reply to confirm if your request has been successful. \n\nImage courtesy of Synergy Theatre Project
URL:https://artsincriminaljustice.org.uk/event/readings-of-2019-koestler-award-winning-plays/
LOCATION:London – Generic\, London\, United Kingdom
CATEGORIES:Events and training
ATTACH;FMTTYPE=image/jpeg:https://artsincrimjustice.s3.eu-west-2.amazonaws.com/wp-content/uploads/2019/09/13113709/Synergy.jpg
END:VEVENT
BEGIN:VEVENT
DTSTART;TZID=Europe/London:20191014T170000
DTEND;TZID=Europe/London:20191014T190000
DTSTAMP:20260421T000808
CREATED:20190823T103947Z
LAST-MODIFIED:20190823T103947Z
UID:6461-1571072400-1571079600@artsincriminaljustice.org.uk
SUMMARY:Learning Social – Arts in Prison
DESCRIPTION:14th October 2019\n5 – 7pm\nIkon Gallery\, Birmingham\n£3 \nArtist Lisa Selby and speaker Elliot Murawski confront issues of addiction\, mental health and incarceration through the Instagram account @bluebaglife\, while Sarah McNally\, Youth Programme Coordinator at the Hepworth Wakefield\, shares experiences of working between youth offending and gallery spaces. \nThe session is chaired by Dr Dean Kelland\, Ikon’s Artist in Residence at HMP Grendon. Supported by the Marie-Louise von Motesiczky Charitable Trust. \n\nBook here\n\nImage courtesy of Ikon Gallery and Koestler Arts
URL:https://artsincriminaljustice.org.uk/event/learning-social-arts-in-prison/
LOCATION:Birmingham – Generic\, Birmingham\, United Kingdom
CATEGORIES:Events and training
ATTACH;FMTTYPE=image/jpeg:https://artsincrimjustice.s3.eu-west-2.amazonaws.com/wp-content/uploads/2019/08/13113726/LEARNING-SOCIAL_KOESTLER-IMAGE-1-Medium-600x400.jpg
END:VEVENT
BEGIN:VEVENT
DTSTART;TZID=Europe/London:20191015T183000
DTEND;TZID=Europe/London:20191015T210000
DTSTAMP:20260421T000808
CREATED:20190808T130151Z
LAST-MODIFIED:20191010T164301Z
UID:6409-1571164200-1571173200@artsincriminaljustice.org.uk
SUMMARY:François Matarasso: A space to think
DESCRIPTION:Anne Peaker lecture 2019\nTuesday 15th October 2019\n6:30 – 9pm\nLondon\n£10 \nBook here\nAnne Peaker was a pioneer of arts for\, and by\, people in the criminal justice system. Our annual lecture honours her work and legacy\, which forms the basis of the National Criminal Justice Arts Alliance today. \nThis year\, keynote speaker François Matarasso will consider the historical context of participatory arts in criminal justice settings and Anne Peaker’s contribution to this. He will go on to consider art’s capacity for the kind of reflection that helps individuals grow\, and make the case for its importance in terms of human rights and power. \nThe event will include spoken word performances from Lady Unchained and Jason Smith\, and an exhibition of a photography project at HMP Whitemoor. \nFrançois’ lecture will be followed by a Q&A and networking drinks from 8-9pm. \n\nAbout the speaker:\nFrançois Matarasso is a community artist whose work embraces creative projects\, research and writing. His latest book A Restless Art: How participation won\, and why it matters (2019) gives an extensive account of the theory\, history and practice of community art in Europe and combines decades of first-hand experience with new research and many project descriptions. François lives in Britain and has experience of work in many European countries. \n\nImage courtesy of François Matarasso
URL:https://artsincriminaljustice.org.uk/event/francois-matarasso-a-space-to-think/
LOCATION:London – Generic\, London\, United Kingdom
CATEGORIES:NCJAA events and training
ATTACH;FMTTYPE=image/png:https://artsincrimjustice.s3.eu-west-2.amazonaws.com/wp-content/uploads/2019/08/13113727/Francois-head-and-shoulders.png
END:VEVENT
BEGIN:VEVENT
DTSTART;VALUE=DATE:20191016
DTEND;VALUE=DATE:20191205
DTSTAMP:20260421T000808
CREATED:20191031T162023Z
LAST-MODIFIED:20191031T162657Z
UID:6659-1571184000-1575503999@artsincriminaljustice.org.uk
SUMMARY:Jadek
DESCRIPTION:16th October – 4th December 2019\nUK tour\nFrom £6 \nYorkshire-based theatre company Imagine If is bringing its new production\, Jadek\, to theatres and prisons across the country. \nThe play is based on the true story of when a working-class woman from Yorkshire moved in with her blind\, Polish\, 94-year-old Grandad and explores how this unexpected turn of events affected both of their lives. \nFree tickets are available for people with lived experience of the criminal justice system and the company is available for prison bookings. For more information please email tamsin@imagineiftheatre.co.uk \n\nDates and booking\n\nYork Theatre Royal – 16th of October\, 7.45pm\nPolish Social Centre\, Bury – 20th of October\, 2pm\nDerby Theatre – 2nd of November\, 5pm\nStephen Joseph\, Scarborough – 6th of November\, 7.45pm\nShoebox Theatre\, Swindon – 8th of November\, 7.30pm\nCAST Doncaster– 12th of November\, 7.15pm\nTheatre Deli\, Sheffield – 14th of November\, 7.45pm\nSlung Low\, Leeds – 17th of November\, 5pm\nSquare Chapel\, Halifax – 21st of November\, 8pm\nHenshaws\, Knaresborough – 22nd of November\, 7.30pm\nTouchstones\, Rochdale – 29th of November\, 7.30pm\nBarnsley Civic – 4th of December\, 7.30pm\n\n\nImage courtesy of Imagine If
URL:https://artsincriminaljustice.org.uk/event/jadek/
LOCATION:Various – UK\, Various\, United Kingdom
CATEGORIES:Events and training
ATTACH;FMTTYPE=image/jpeg:https://artsincrimjustice.s3.eu-west-2.amazonaws.com/wp-content/uploads/2019/10/13113702/Jadek_A4-1-2-e1572537874832.jpg
END:VEVENT
BEGIN:VEVENT
DTSTART;VALUE=DATE:20191028
DTEND;VALUE=DATE:20191104
DTSTAMP:20260421T000808
CREATED:20190823T121439Z
LAST-MODIFIED:20190823T130718Z
UID:6465-1572220800-1572825599@artsincriminaljustice.org.uk
SUMMARY:Novus at Tate Liverpool
DESCRIPTION:28th October – 3rd November 2019\nTate Liverpool\nFree \nCreative art pieces produced by men from five prisons across the North West and North Wales will be presented in Tate Exchange at Tate Liverpool. \nMen taking part in the Novus Family Learning programmes have worked with artist Denise Wright to explore artistic techniques and processes\, taking inspiration from the Keith Haring exhibition at Tate Liverpool. \nSustaining strong family relationships while in prison can play an important role in rehabilitation. The aim of the project is to reduce the impact of separation and isolation that families often face. \nThe project is presented by social enterprise\, Novus\, who deliver education\, training and employment opportunities to men\, women and young people in over 50 UK prisons. This is the third project that has been displayed at Tate Exchange as part of an ongoing partnership between Novus and Tate Liverpool. \nTate Exchange\, now in its third year at Tate Liverpool\, explores how art makes a difference in society. It is an open experiment and ongoing programme of residencies and events developed by artists\, practitioners\, and Associates\, both within and beyond the arts sector. The aim is to build a dialogue around art\, society\, and the wider issues facing us today. \n\nImage courtesy of Novus
URL:https://artsincriminaljustice.org.uk/event/novus-at-tate-liverpool/
LOCATION:Liverpool – generic\, Liverpool\, United Kingdom
CATEGORIES:Events and training
ATTACH;FMTTYPE=image/jpeg:https://artsincrimjustice.s3.eu-west-2.amazonaws.com/wp-content/uploads/2019/08/13113725/Newsletter-image-scaled.jpg
END:VEVENT
BEGIN:VEVENT
DTSTART;TZID=Europe/London:20191029T100000
DTEND;TZID=Europe/London:20191103T173000
DTSTAMP:20260421T000808
CREATED:20191029T141146Z
LAST-MODIFIED:20191029T141146Z
UID:6655-1572343200-1572802200@artsincriminaljustice.org.uk
SUMMARY:Beyond Walls
DESCRIPTION:29th October – 3rd November 2019\nTate Exchange\, Tate Liverpool\nFree \nMen taking part in the Novus Family Learning programmes have worked with artist Denise Wright to explore different artistic techniques and processes inspired by Keith Haring. \nIn Tate Exchange\, Novus presents a series of artworks produced by men and their families from five prisons across the North West and North Wales. The work includes banners\, printmaking and drawing. During the week visitors to Tate Exchange can meet members of staff from Novus and take part in a practical activities. \nSocial enterprise Novus delivers education\, training and employment opportunities to men\, women and young people in over 50 UK prisons. Beyond Walls is the third project that has been displayed in Tate Exchange and is a part of an ongoing partnership between Novus and Tate Liverpool. The partnership gives families the opportunity to experience and be inspired by art. The aim is to reduce the impact of separation and isolation that families often face\, especially younger family members when they have a parent in prison. \n\nFind out more\n\n 
URL:https://artsincriminaljustice.org.uk/event/beyond-walls/
LOCATION:Liverpool – generic\, Liverpool\, United Kingdom
CATEGORIES:Events and training
ATTACH;FMTTYPE=image/jpeg:https://artsincrimjustice.s3.eu-west-2.amazonaws.com/wp-content/uploads/2019/10/13113703/IMG_0106-scaled.jpg
END:VEVENT
BEGIN:VEVENT
DTSTART;VALUE=DATE:20191030
DTEND;VALUE=DATE:20191124
DTSTAMP:20260421T000808
CREATED:20191031T162606Z
LAST-MODIFIED:20191031T162606Z
UID:6662-1572393600-1574553599@artsincriminaljustice.org.uk
SUMMARY:Shook
DESCRIPTION:30th October – 23rd November 2019\nSouthwark Playhouse\, London\nFrom £18 \n“He’ll look different. My little boy. When I get out. Like… to the picture I’ve got in my head. Be like meeting him all over again. Be a whole new start.” \nWinner of the 2019 Papatango New Writing Prize\, Shook examines the young men society shuts away. \nAfter the show on Thursday 7th November\, join playwright Samuel Bailey\, Alice Dawnay (CEO of Switchback)\, and Francesca Findlater (CEO of Bounce Back) to discuss the play and its depiction of life in a young offenders’ institution. \nAfter the performance on Tuesday 12th November\, join playwright Samuel Bailey and mentors from the Key4Life programme to discuss the play and the future facing young offenders. \nPapatango is offering a 25% discount to the NCJAA network with the code SHOOKSHARE. \n\nBook here\n\nImage courtesy of Papatango
URL:https://artsincriminaljustice.org.uk/event/shook/
LOCATION:London – Generic\, London\, United Kingdom
CATEGORIES:Events and training
ATTACH;FMTTYPE=image/jpeg:https://artsincrimjustice.s3.eu-west-2.amazonaws.com/wp-content/uploads/2019/10/13113702/ShookWeb.jpg
END:VEVENT
END:VCALENDAR