BEGIN:VCALENDAR
VERSION:2.0
PRODID:-//National Criminal Justice Arts Alliance - ECPv6.3.5//NONSGML v1.0//EN
CALSCALE:GREGORIAN
METHOD:PUBLISH
X-WR-CALNAME:National Criminal Justice Arts Alliance
X-ORIGINAL-URL:https://artsincriminaljustice.org.uk
X-WR-CALDESC:Events for National Criminal Justice Arts Alliance
REFRESH-INTERVAL;VALUE=DURATION:PT1H
X-Robots-Tag:noindex
X-PUBLISHED-TTL:PT1H
BEGIN:VTIMEZONE
TZID:Europe/London
BEGIN:DAYLIGHT
TZOFFSETFROM:+0000
TZOFFSETTO:+0100
TZNAME:BST
DTSTART:20160327T010000
END:DAYLIGHT
BEGIN:STANDARD
TZOFFSETFROM:+0100
TZOFFSETTO:+0000
TZNAME:GMT
DTSTART:20161030T010000
END:STANDARD
BEGIN:DAYLIGHT
TZOFFSETFROM:+0000
TZOFFSETTO:+0100
TZNAME:BST
DTSTART:20170326T010000
END:DAYLIGHT
BEGIN:STANDARD
TZOFFSETFROM:+0100
TZOFFSETTO:+0000
TZNAME:GMT
DTSTART:20171029T010000
END:STANDARD
END:VTIMEZONE
BEGIN:VEVENT
DTSTART;TZID=Europe/London:20170128T150000
DTEND;TZID=Europe/London:20170128T180000
DTSTAMP:20260423T113514
CREATED:20161124T125819Z
LAST-MODIFIED:20161124T150420Z
UID:3221-1485615600-1485626400@artsincriminaljustice.org.uk
SUMMARY:Inside Peace documentary screening
DESCRIPTION:Inside Peace follows a group of inmates doing time in a Texas prison as they embark on a journey of personal discovery while struggling with society’s roadblocks and dangers. The documentary features the Peace Education Program (PEP) which teaches people to get in touch with themselves and their inner resources and has proved very effective in some of the toughest maximum security prisons in the US & South Africa. In the UK\, the programme has been running at HMP Thameside for over a year with very positive feedback from attendees and prison staff. Several other UK prisons are in the early stages of providing the PEP\, as well as various community groups and organisations catering for veterans also use it.  \nThis screening will take place at the Mayfair Hotel\, Stratton Street\, London\, W1J 8LT. Tickets are £20\, and early booking is advised. \nClick here for more information.
URL:https://artsincriminaljustice.org.uk/event/inside-peace-documentary-screening/
CATEGORIES:Events and training
ATTACH;FMTTYPE=image/jpeg:https://artsincrimjustice.s3.eu-west-2.amazonaws.com/wp-content/uploads/2016/11/13114207/inside-peace.jpg
END:VEVENT
BEGIN:VEVENT
DTSTART;TZID=Europe/London:20161216T180000
DTEND;TZID=Europe/London:20161216T213000
DTSTAMP:20260423T113514
CREATED:20161117T114559Z
LAST-MODIFIED:20161117T114749Z
UID:3206-1481911200-1481923800@artsincriminaljustice.org.uk
SUMMARY:Beating the Odds: celebrating the value of participatory arts for young people
DESCRIPTION:This event is a festive evening of performance\, exhibition and research celebrating the value of participatory arts for young people to be held at the refurbished Attenborough Centre for Creative Arts. The event will celebrate work by various creative arts organisations working with researchers from the interdisciplinary Centre for Research in Creative and Performing Arts and the Centre for Innovation and Research in Childhood and Youth at the University of Sussex. The evening will include a creative mix of performance by Glyndebourne Youth Opera and the Miss Represented project at the Brighton Dome\, and an exhibition of young people’s art from other groups. There will also be information available about relevant research as well as a panel discussion. \nThe event is free\, but booking is essential. \nClick here for more information.
URL:https://artsincriminaljustice.org.uk/event/beating-the-odds/
CATEGORIES:Events and training
ATTACH;FMTTYPE=image/png:https://artsincrimjustice.s3.eu-west-2.amazonaws.com/wp-content/uploads/2016/11/13114209/attendboroughevent.png
END:VEVENT
BEGIN:VEVENT
DTSTART;TZID=Europe/London:20161207T180000
DTEND;TZID=Europe/London:20161207T210000
DTSTAMP:20260423T113514
CREATED:20161108T104920Z
LAST-MODIFIED:20161108T110428Z
UID:3187-1481133600-1481144400@artsincriminaljustice.org.uk
SUMMARY:Shutter stories: prison life through the lens
DESCRIPTION:The National Criminal Justice Arts Alliance’s annual Anne Peaker lecture will focus this year on the use of photography and film in criminal justice settings\, looking at how different media can reveal life behind prison doors\, and how film and photography can be powerful tools for sharing stories. \nThe event\, happening on 7th December (6.30 – 9pm) will see artist and photographer Edmund Clark share his experience of being the Artist in Residence at HMP Grendon\, and how working in the prison has influenced his creative practice. \nEdmund’s lecture will be followed by a panel discussion looking at questions surrounding the use of media in criminal justice settings: \n\nHow can film and photography change public perception about life in prison?\nHow can we use film and photography to enable prisoners to share their voices – and can this help them on their desistance journey?\n\nThe panel will include: \n\nEdmund Clark\, artist and Artist in Residence at HMP Grendon\nRashmi Becker\, PhD student at the University of Cambridge working on a photobook of people with learning disabilities in the Criminal Justice System\nCarlotta Allum\, founder and director of Stretch Charity\nRaheel Mohammed\, founder and director of Maslaha\n\nClick here to book your place
URL:https://artsincriminaljustice.org.uk/event/shutter-stories-prison-life-through-the-lens/
CATEGORIES:NCJAA events and training
END:VEVENT
BEGIN:VEVENT
DTSTART;TZID=Europe/London:20161122T180000
DTEND;TZID=Europe/London:20161122T220000
DTSTAMP:20260423T113514
CREATED:20161026T115111Z
LAST-MODIFIED:20161026T115111Z
UID:3183-1479837600-1479852000@artsincriminaljustice.org.uk
SUMMARY:Celebrating 21 years of music in prisons and beyond
DESCRIPTION:The Irene Taylor Trust is celebrating 21 years of its work in prisons (Music in Prisons) and now also in the community with ex-prisoners (Sounding Out) and young people in challenging circumstances (Making Tracks) with an exciting and eclectic evening of live music at London’s Union Chapel on 22nd November 2016. \nThe evening will feature performances from Sounding Out ex-prisoner band Platform 7 and Making Tracks participants\, alongside special guests including Mercury Prize winner Speech Debelle\, and Chaps Choir singing Music in Prisons songs\, hosted by Guardian journalist Tim Dowling. \nThe centrepiece of the celebration is a new piece of music and film\, Bridges; the music was created by participants from Music in Prisons\, Sounding Out and Making Tracks in collaboration with contemporary composer Mark-Anthony Turnage; the accompanying film by artist Lizzie Coombes and filmmaker Andy Wood captures the three groups during the creative process. Mark-Anthony Turnage has also re-orchestrated Bridges for a world exclusive one-off live performance by an ensemble of Royal Academy of Music musicians that is not to be missed. \nFull details about the evening and how to book tickets are here; http://bit.ly/ITTunionc \nImage courtesy of the Irene Taylor Trust
URL:https://artsincriminaljustice.org.uk/event/celebrating-21-years-of-music-in-prisons-and-beyond/
CATEGORIES:Events and training
ATTACH;FMTTYPE=image/jpeg:https://artsincrimjustice.s3.eu-west-2.amazonaws.com/wp-content/uploads/2016/10/13114210/1-SOUNDING-OUT-LizzieCoombes-098.jpg
END:VEVENT
BEGIN:VEVENT
DTSTART;TZID=Europe/London:20161116T100000
DTEND;TZID=Europe/London:20161116T170000
DTSTAMP:20260423T113514
CREATED:20161003T081104Z
LAST-MODIFIED:20161003T081104Z
UID:3091-1479290400-1479315600@artsincriminaljustice.org.uk
SUMMARY:Inside Prison Radio: development day
DESCRIPTION:The Prison Radio Association’s annual development day\, Inside Prison Radio 2016\, will be taking place on Wednesday 16th November at the Southbank Centre in London. Early bird tickets are currently on sale at a price of £50 (including VAT). \nThis event is for anyone who’s interested in the power of prison radio to change lives. This year they will be sharing thoughts and ideas about how to use radio to tell great stories that resonate with the prisoner audience. \nClick here for more information
URL:https://artsincriminaljustice.org.uk/event/inside-prison-radio-development-day/
CATEGORIES:Events and training
END:VEVENT
BEGIN:VEVENT
DTSTART;VALUE=DATE:20161111
DTEND;VALUE=DATE:20161112
DTSTAMP:20260423T113514
CREATED:20161004T124114Z
LAST-MODIFIED:20161004T124114Z
UID:3098-1478822400-1478908799@artsincriminaljustice.org.uk
SUMMARY:Staging rehabilitation: a Clean Break and Geese Theatre Company masterclass
DESCRIPTION:This masterclass is for both theatre artists and criminal justice professionals interested in the specialised field of arts in the Criminal Justice System. The day will be an introduction to the work of two organisations in the field. Participants will learn about their different working practices\, understand the principles and theory underpinning their work\, and explore best practice in the field. The day will be participatory\, and will involve drama and theatre exercises\, group work\, discussion and a plenary session at the end. \nClick here for more information.
URL:https://artsincriminaljustice.org.uk/event/staging-rehabilitation-a-clean-break-and-geese-theatre-company-masterclass/
CATEGORIES:Events and training
ATTACH;FMTTYPE=image/jpeg:https://artsincrimjustice.s3.eu-west-2.amazonaws.com/wp-content/uploads/2016/10/13114238/Anna-and-Andy.jpg
END:VEVENT
BEGIN:VEVENT
DTSTART;TZID=Europe/London:20161110T130000
DTEND;TZID=Europe/London:20161110T160000
DTSTAMP:20260423T113514
CREATED:20161003T102307Z
LAST-MODIFIED:20161012T103733Z
UID:3093-1478782800-1478793600@artsincriminaljustice.org.uk
SUMMARY:Listening event: arts in criminal justice settings
DESCRIPTION:We are holding a ‘listening event’ on 10th November (1 – 4pm) in Birmingham to bring together people working in arts and criminal justice settings across the West Midlands to talk about current policy and challenges as well as good practice. \nThe session will be an informal event for participants to raise any concerns about the current policy or practice landscape whilst sharing experience\, knowledge and skills with others. It will also enable us to find out more about the issues affecting our members right now and what we can do to better support you. \nThe event will be led by NCJAA Chair Alison Frater\, NCJAA Manager Jessica Plant\, and NCJAA Steering Group member and Artistic Director of Geese Theatre Company\, Andy Watson. This is a free event open to members\, artists\, prison staff and community rehabilitation companies\, health providers\, academics and other interested parties. \nTo book a place please click here \nImage courtesy of Dance United
URL:https://artsincriminaljustice.org.uk/event/listening-event-arts-in-criminal-justice-settings/
CATEGORIES:NCJAA events and training
END:VEVENT
BEGIN:VEVENT
DTSTART;VALUE=DATE:20161026
DTEND;VALUE=DATE:20161120
DTSTAMP:20260423T113514
CREATED:20161012T122740Z
LAST-MODIFIED:20161012T122740Z
UID:3124-1477440000-1479599999@artsincriminaljustice.org.uk
SUMMARY:Intermission Youth Theatre's 'Love me to Death'
DESCRIPTION:Two boroughs both alike in poverty\,\nSouth and east where we tell our story.\nFrom past issues up to present gang wars\nEvading the laws to kill without cause.\nThen he saw her\, it was love at first sight\,\nShe caught a glimpse and was like\,\nhe’s alright! \nBut she’s from E8 and he’s from Southeast\,\nAnd they got bare beef so that means no peace.\nBut these two lovers were prepared to fight\,\nAnd tread the fearful tight rope of their plight.\nDespite the backlash of the hood enraged\,\nThis passion was one lion they could not cage.\nEngage\, and with patient ears tell others\nThat our stage is full of Shakespeare’s Lovers. \nSee Intermission Youth Theatre’s ‘Love me to Death’ (inspired by Romeo and Juliet) from 26th October – 19th November in London. \nClick here to book tickets
URL:https://artsincriminaljustice.org.uk/event/intermission-youth-theatres-love-me-to-death/
CATEGORIES:Events and training
ATTACH;FMTTYPE=image/jpeg:https://artsincrimjustice.s3.eu-west-2.amazonaws.com/wp-content/uploads/2016/10/13114232/intermissionlovemetodeath.jpg
END:VEVENT
BEGIN:VEVENT
DTSTART;TZID=Europe/London:20161022T150000
DTEND;TZID=Europe/London:20161022T170000
DTSTAMP:20260423T113514
CREATED:20160914T103343Z
LAST-MODIFIED:20160914T103343Z
UID:3059-1477148400-1477155600@artsincriminaljustice.org.uk
SUMMARY:Moving (swiftly) on... Why should anyone care about arts in prisons?
DESCRIPTION:Are the arts a luxury or do they actually make a difference? Join artists\, prison arts practitioners and academics for a discussion about whether and how the arts really move people. Speakers include Sarah Colvin and Preti Taneja (School of Arts and Humanities\, Cambridge)\, Anna Herrmann (Clean Break)\, Andy Watson (Geese Theatre Company)\, Alex Wheatle (writer)\, Andrew Wilkie (National Prison Radio)\, and Loraine Gelsthorpe (Professor of Criminology\, Cambridge). An audience discussion will be chaired by Alison Frater (National Criminal Justice Arts Alliance). The event is part of the University of Cambridge’s Festival of Ideas. \nVenue: Jesus College\, University of Cambridge \nClick here for more information and to book. \nImage (c) Geese Theatre Company
URL:https://artsincriminaljustice.org.uk/event/moving-swiftly-on-why-should-anyone-care-about-arts-in-prisons/
CATEGORIES:Events and training
ATTACH;FMTTYPE=image/jpeg:https://artsincrimjustice.s3.eu-west-2.amazonaws.com/wp-content/uploads/2016/09/13114241/geese-festival-of-ideas.jpg
END:VEVENT
BEGIN:VEVENT
DTSTART;TZID=Europe/London:20161015T193000
DTEND;TZID=Europe/London:20161015T220000
DTSTAMP:20260423T113514
CREATED:20160818T131536Z
LAST-MODIFIED:20160818T135021Z
UID:2624-1476559800-1476568800@artsincriminaljustice.org.uk
SUMMARY:Changing Tunes Annual Concert
DESCRIPTION:Join Changing Tunes in Bristol for an evening of musical performances from people they have worked with in prison\, and get the chance to hear them talk about their journeys. With performances supported by their Musicians in Residence\, there will be a mixture of original songs and covers. Click here for more information. \nWhen? 15th October 2016\, 7.30pm \nWhere? Woodlands Christian Centre\, Woodlands Road\, Bristol\, BS8 2AA
URL:https://artsincriminaljustice.org.uk/event/changing-tunes-annual-concert/
CATEGORIES:Events and training
ATTACH;FMTTYPE=image/jpeg:https://artsincrimjustice.s3.eu-west-2.amazonaws.com/wp-content/uploads/2016/08/13114247/annualconcert.jpg
END:VEVENT
BEGIN:VEVENT
DTSTART;VALUE=DATE:20161007
DTEND;VALUE=DATE:20161015
DTSTAMP:20260423T113514
CREATED:20160818T134835Z
LAST-MODIFIED:20160818T135349Z
UID:2628-1475798400-1476489599@artsincriminaljustice.org.uk
SUMMARY:The Art of Recovery
DESCRIPTION:Following on from the success of the last two annual Art of Recovery events\, the competition is now open to anyone in or working towards recovery across West Yorkshire. The showcase event will feature local judges\, food\, music and ultimately a celebration of creativity. The exhibition is open to the public\, professionals\, families and friends of all of the entrants. Click here for more information. \nWhen? 7th – 14th October 2016 \nWhere? Corn Exchange\, Leeds
URL:https://artsincriminaljustice.org.uk/event/the-art-of-recovery/
CATEGORIES:Events and training
ATTACH;FMTTYPE=image/jpeg:https://artsincrimjustice.s3.eu-west-2.amazonaws.com/wp-content/uploads/2016/08/13114247/artsofrecovery.jpg
END:VEVENT
BEGIN:VEVENT
DTSTART;TZID=Europe/London:20161005T100000
DTEND;TZID=Europe/London:20161005T160000
DTSTAMP:20260423T113514
CREATED:20160825T090059Z
LAST-MODIFIED:20160921T112929Z
UID:2031-1475661600-1475683200@artsincriminaljustice.org.uk
SUMMARY:Arts\, culture and innovation in criminal justice settings: improving outcomes in a new policy landscape
DESCRIPTION:On 5th October 2016 we will be holding our annual conference in York at HMP Askham Grange. \nThe conference will launch a unique guide to commissioning arts projects in criminal justice settings in response to the Coates Review into prison education and Culture White Paper. The conference and publication will highlight the unique role of the arts in supporting rehabilitation\, including promoting safe and secure prisons and improving outcomes for offenders across the prison estate and in the community. It will provide evidence and best practice case studies to inspire governors\, commissioners and practitioners in a new reform environment. \nBreakout sessions will explore collaborations between criminal justice settings and arts organisations\, building on the evidence of success\, fostering rehabilitative cultures and using the arts to increase inclusivity and engagement. The event will include contributions from the Ministry of Justice and Arts Council England as well as leading arts organisations\, universities and prison governors. \nSpeakers include: \n\nMags Patten\, Nation Director of Communication (Arts Council England)\nSimon Marshall\, Head of Co-Commissioning and Programme Director\, Education and Employment Reform Commissioning Group\nGraham Beck\, Governor of HMP Kirkham.\n\nWorkshops include: \n\nImproving wellbeing for those most at risk of self-harm and suicide in a prison setting (Geese Theatre Company and Safer Custody teams)\n‘Singing the blues’ – music and emotion: how art can be used effectively in a therapy setting (Phoene Cave\, HMP and YOI Bronzefield)\nImproving outcomes and evidence in arts and criminal justice settings: building the evidence base (Sarah French\, Justice Data Lab)\nDigital arts in criminal justice settings: exploring the perceived barriers and outcomes for offenders (Stretch and HMP Leeds)\nMake Right: using design thinking in prison industry textile workshops to build empathy and design skills (University of the Arts London and HMP Thameside)\n\nThe cost of attending the event is £60 per person. \nTo book a place\, please click here.
URL:https://artsincriminaljustice.org.uk/event/arts-culture-and-innovation-in-criminal-justice-settings-improving-outcomes-in-a-new-policy-landscape/
CATEGORIES:Featured Events,NCJAA events and training
END:VEVENT
BEGIN:VEVENT
DTSTART;TZID=Europe/London:20160928T180000
DTEND;TZID=Europe/London:20160928T220000
DTSTAMP:20260423T113514
CREATED:20160907T115543Z
LAST-MODIFIED:20160907T115543Z
UID:3055-1475085600-1475100000@artsincriminaljustice.org.uk
SUMMARY:Fundraising dinner hosted by Rory Bremner
DESCRIPTION:This fundraising event is a unique performance experience and dinner hosted by Rory Bremner\, at Central st Martins\, at 6pm on 28th September in aid of the Centre for Peaceful Solutions. \nThe organisation has been given the go ahead for a transformative project in Dartmoor Prison\, for which they need to raise £240\,000. \nTo kick this off they are hosting an evening of Live Mediation Theatre on Wednesday 28th September\, with Rory Bremner and delicious food kindly provided by Ottolenghi\, all at Central Saint Martins in London. \nExperience their work and help them to make real\, lasting changes\, both in the lives of the prisoners they work with and in a wider sense to society\, as they address some of the root causes of violence and ‘criminal’ behaviour. \n“When I get out in 3 years’ time\, I will not go back to my old life. I intend to start a new life with no criminal ties at all. I would like to be part of Peaceful Solutions’ work because you reached me in a way that I now know is the remedy” – Paul \nTheir intention is to create a culture change on the inside which translates into self responsibility on release so that violence in society is reduced and therefore the number of victims. \nDetails or the evening: \nAt 6pm Rory Bremner will kick off this informative and exciting evening\, consisting of: \n\nPerformances by award-winning Chickenshed among others.\nLive Unscripted Mediation Theatre with guest star actors to be announced.\nVegetarian family style meal provided by Yotam Ottolenghi.\nSpeech by Bridie Oakes-Richards\, Governor\, HM Prison Dartmoor.\nAuction of music and toy boxes made exclusively for this event by Dartmoor prisoners and decorated by reputable artists.\n‘Sneak Preview’ exhibition of prison photographs by Royal Photographer Hugo Burnand.\n\nThe evening will close at 10pm. \nTickets: \nTickets can be purchased for £125 each\, or tables of 10 can be purchased for £1000. The cost includes the theatre show and all food and beverage. \nVenue:\n\nCentral Saint Martins\nGranary Building\n1 Granary Square\nKing’s Cross\nLondon\, N1C 4AA \nEvent Enquiries:\n\nTel: 020 8453 0086 / 07764132456 enquiries@centreforpeacefulsolutions.org
URL:https://artsincriminaljustice.org.uk/event/fundraising-dinner-hosted-by-rory-bremner/
CATEGORIES:Events and training
END:VEVENT
BEGIN:VEVENT
DTSTART;TZID=Europe/London:20160916T090000
DTEND;TZID=Europe/London:20160916T170000
DTSTAMP:20260423T113514
CREATED:20160810T135442Z
LAST-MODIFIED:20160810T135442Z
UID:2030-1474016400-1474045200@artsincriminaljustice.org.uk
SUMMARY:Prisoner Learning Alliance Conference and Awards 2016
DESCRIPTION:This year’s Prisoner Learning Alliance (PLA) conference will explore the changing policy environment through a range of speakers including a Governor of one of the new ‘reform prisons.’ Delegates will have the chance to discuss the challenges and opportunities these policy changes may bring and there will be a focus on sharing good practice on ‘personalised and peer-enabled approaches.’ Achievements of teachers\, officers and peer mentors will be celebrated in the annual award ceremony\, and there will be a chance to hear from former learners and other experts on how we should be measuring the wide-ranging impact of prison education and how the PLA’s new ‘Theory of Change’ evaluation framework can help. \nClick here for more information \nWhen? 16th September 2016\nWhere? Cardiff\, Wales\nHow much? Free
URL:https://artsincriminaljustice.org.uk/event/prisoner-learning-alliance-conference-and-awards-2016/
CATEGORIES:Events and training
END:VEVENT
BEGIN:VEVENT
DTSTART;TZID=Europe/London:20160915T100000
DTEND;TZID=Europe/London:20161113T170000
DTSTAMP:20260423T113514
CREATED:20160810T135211Z
LAST-MODIFIED:20160810T135225Z
UID:2029-1473933600-1479056400@artsincriminaljustice.org.uk
SUMMARY:We are all human: a Koestler Trust exhibition at the Southbank Centre
DESCRIPTION:‘We are all human’ is the UK’s annual national showcase of arts by prisoners\, ex-offenders on community sentences\, secure psychiatric patients and immigration detainees. It is the ninth exhibition in an ongoing partnership between the Koestler Trust and Southbank Centre. \nThis year’s show was curated by writer and dub-poet Benjamin Zephaniah. The exhibition features a wide range of artforms including painting\, drawing\, matchstick modelling\, craft\, music and writing\, exploring themes of time\, contemplation and the natural environment. \nClick here for more information
URL:https://artsincriminaljustice.org.uk/event/we-are-all-human-a-koestler-trust-exhibition-at-the-southbank-centre/
CATEGORIES:Events and training
END:VEVENT
BEGIN:VEVENT
DTSTART;TZID=Europe/London:20160915T090000
DTEND;TZID=Europe/London:20160916T170000
DTSTAMP:20260423T113514
CREATED:20160810T121931Z
LAST-MODIFIED:20160810T135511Z
UID:1994-1473930000-1474045200@artsincriminaljustice.org.uk
SUMMARY:BARRED: a new play by Dean Stalham
DESCRIPTION:Barred\, a new play by Dean Stalham will be taking place at the Brady Arts Centre in London on 15th and 16th September. \nFor more information\, please email carlotta@stretch-charity.org
URL:https://artsincriminaljustice.org.uk/event/barred-a-new-play-by-dean-stalham/
CATEGORIES:Events and training
ATTACH;FMTTYPE=image/jpeg:https://artsincrimjustice.s3.eu-west-2.amazonaws.com/wp-content/uploads/2016/08/13114254/barred.jpg
END:VEVENT
BEGIN:VEVENT
DTSTART;TZID=Europe/London:20160915T090000
DTEND;TZID=Europe/London:20160915T120000
DTSTAMP:20260423T113514
CREATED:20160906T095237Z
LAST-MODIFIED:20160906T095237Z
UID:3029-1473930000-1473940800@artsincriminaljustice.org.uk
SUMMARY:Arts tutor seminar for visual arts tutors
DESCRIPTION:Each year the Koestler Trust run an Arts Tutor Seminar for Visual Art Tutors working within prisons. This year’s seminar will take place on the morning of our Exhibition’s public opening on Thursday 15th September at the Southbank Centre. The Seminar will provide delegates with a valuable opportunity to network and learn from each other\, share best practice and update on current issues in the field\, guest speakers will also be in attendance. If you would like to attend please email smatheve@koestlertrust.org.uk for more information.
URL:https://artsincriminaljustice.org.uk/event/arts-tutor-seminar-for-visual-arts-tutors/
CATEGORIES:Events and training
ATTACH;FMTTYPE=image/jpeg:https://artsincrimjustice.s3.eu-west-2.amazonaws.com/wp-content/uploads/2016/09/13114243/koestlertutorevent-scaled.jpg
END:VEVENT
BEGIN:VEVENT
DTSTART;TZID=Europe/London:20160908T193000
DTEND;TZID=Europe/London:20160908T203000
DTSTAMP:20260423T113514
CREATED:20160810T121612Z
LAST-MODIFIED:20160825T085834Z
UID:1992-1473363000-1473366600@artsincriminaljustice.org.uk
SUMMARY:Creative Future Literary Awards showcase
DESCRIPTION:Creative Future’s annual Literary Awards showcase will offer a range of talented writers from around the UK. Each of the twelve finalists will read their award-winning contributions alongside readings from their critically acclaimed guest author Michelle Green and best-selling poet and playwright Lemn Sissay\, who will host the event. The showcase will also be the first time this year’s award winners will be announced. \nThe finalists have been chosen from over 160 entries from around the country and were selected by a panel of industry experts. Each of the finalists will receive cash prizes as well as a year’s worth of professional and artistic development support\, including mentorships with well-known authors and manuscript assessments from professional editors. \nClick here to find out more and to book your ticket \nThe event is taking place at the Southbank Centre\, London and is free.
URL:https://artsincriminaljustice.org.uk/event/creative-future-literary-awards-showcase/
CATEGORIES:Events and training
ATTACH;FMTTYPE=image/jpeg:https://artsincrimjustice.s3.eu-west-2.amazonaws.com/wp-content/uploads/2016/08/13114255/creative-future.jpg
END:VEVENT
BEGIN:VEVENT
DTSTART;TZID=Europe/London:20160908T090000
DTEND;TZID=Europe/London:20160908T100000
DTSTAMP:20260423T113514
CREATED:20160810T121235Z
LAST-MODIFIED:20160810T135504Z
UID:1990-1473325200-1473328800@artsincriminaljustice.org.uk
SUMMARY:Safe Ground's Moving Home symposium
DESCRIPTION:This year marks Safe Ground’s 21st anniversary\, with their symposium – ‘MOVING. HOME’ – being the culmination of a year-long series of public events to celebrate the occasion. At this milestone\, they will be taking the time to examine the context in which they are working. \nThe aim of the symposium\, which is taking place at the National Theatre in London\, is to challenge and provoke ideas\, and Safe Ground will be looking at why they do the work they do\, how they work and who they work with in the current social\, political and economic climate. There will be dialogue\, spoken word performances and dynamic activities. \nClick here for more information
URL:https://artsincriminaljustice.org.uk/event/safe-grounds-moving-home-symposium/
CATEGORIES:Events and training
ATTACH;FMTTYPE=image/jpeg:https://artsincrimjustice.s3.eu-west-2.amazonaws.com/wp-content/uploads/2016/08/13114255/safe-ground.jpg
END:VEVENT
END:VCALENDAR