BEGIN:VCALENDAR
VERSION:2.0
PRODID:-//National Criminal Justice Arts Alliance - ECPv6.3.5//NONSGML v1.0//EN
CALSCALE:GREGORIAN
METHOD:PUBLISH
X-WR-CALNAME:National Criminal Justice Arts Alliance
X-ORIGINAL-URL:https://artsincriminaljustice.org.uk
X-WR-CALDESC:Events for National Criminal Justice Arts Alliance
REFRESH-INTERVAL;VALUE=DURATION:PT1H
X-Robots-Tag:noindex
X-PUBLISHED-TTL:PT1H
BEGIN:VTIMEZONE
TZID:Europe/London
BEGIN:DAYLIGHT
TZOFFSETFROM:+0000
TZOFFSETTO:+0100
TZNAME:BST
DTSTART:20210328T010000
END:DAYLIGHT
BEGIN:STANDARD
TZOFFSETFROM:+0100
TZOFFSETTO:+0000
TZNAME:GMT
DTSTART:20211031T010000
END:STANDARD
END:VTIMEZONE
BEGIN:VEVENT
DTSTART;TZID=Europe/London:20210317T140000
DTEND;TZID=Europe/London:20210317T170000
DTSTAMP:20260419T214548
CREATED:20210301T163548Z
LAST-MODIFIED:20210301T163548Z
UID:7486-1615989600-1616000400@artsincriminaljustice.org.uk
SUMMARY:BROAD: Symposium exploring dance drama techniques in secure settings
DESCRIPTION:[vc_row][vc_column][vc_column_text]17th March | online | free[/vc_column_text][vc_btn title=”Register for free here” style=”flat” shape=”square” color=”danger” link=”url:https%3A%2F%2Fwww.eventbrite.co.uk%2Fe%2Fbroad-symposium-company-chameleonuclanodd-arts-tickets-142486816905||target:%20_blank|” css=”.vc_custom_1614614923008{margin-top: 9px !important;margin-bottom: 25px !important;}”][vc_column_text]Company Chameleon\, Odd Arts and UCLAN’s Psychosocial Research Unit are inviting you to an afternoon symposium exploring the impact of BROAD\, a dance drama programme delivered in secure environments. \nAt the symposium\, Company Chameleon and Odd Arts will be delivering some of the content live for attendees to join in and experience the approaches that BROAD uses. Professor Lynn Froggett and Dr Hugh Ortega Breton of UCLAN will discuss some of the concepts they explored in their research into the project.[/vc_column_text][vc_btn title=”Read the BROAD report on the Evidence Library” style=”flat” shape=”square” color=”danger” link=”url:http%3A%2F%2Fartsevidence.org.uk%2Fevaluations%2Fbuilding-resilience-overcoming-adversity-uclan%2F||target:%20_blank|” css=”.vc_custom_1614615171397{margin-top: 9px !important;margin-bottom: 9px !important;}”][/vc_column][/vc_row]
URL:https://artsincriminaljustice.org.uk/event/broad-symposium-exploring-dance-drama-techniques-in-secure-settings/
CATEGORIES:Events and training
ATTACH;FMTTYPE=image/jpeg:https://artsincrimjustice.s3.eu-west-2.amazonaws.com/wp-content/uploads/2021/03/13113625/broad.jpg
END:VEVENT
END:VCALENDAR