BEGIN:VCALENDAR
VERSION:2.0
PRODID:-//National Criminal Justice Arts Alliance - ECPv6.3.5//NONSGML v1.0//EN
CALSCALE:GREGORIAN
METHOD:PUBLISH
X-WR-CALNAME:National Criminal Justice Arts Alliance
X-ORIGINAL-URL:https://artsincriminaljustice.org.uk
X-WR-CALDESC:Events for National Criminal Justice Arts Alliance
REFRESH-INTERVAL;VALUE=DURATION:PT1H
X-Robots-Tag:noindex
X-PUBLISHED-TTL:PT1H
BEGIN:VTIMEZONE
TZID:Europe/London
BEGIN:DAYLIGHT
TZOFFSETFROM:+0000
TZOFFSETTO:+0100
TZNAME:BST
DTSTART:20210328T010000
END:DAYLIGHT
BEGIN:STANDARD
TZOFFSETFROM:+0100
TZOFFSETTO:+0000
TZNAME:GMT
DTSTART:20211031T010000
END:STANDARD
END:VTIMEZONE
BEGIN:VEVENT
DTSTART;TZID=Europe/London:20210311T180000
DTEND;TZID=Europe/London:20210311T191500
DTSTAMP:20260419T214645
CREATED:20210223T100459Z
LAST-MODIFIED:20210223T100459Z
UID:7459-1615485600-1615490100@artsincriminaljustice.org.uk
SUMMARY:Disrupted Lives: #ChooseToChallenge Maternal Imprisonment
DESCRIPTION:[vc_row][vc_column][vc_column_text]11th March | online | free[/vc_column_text][vc_btn title=”Register here” style=”flat” shape=”square” color=”danger” link=”url:https%3A%2F%2Fwww.eventbrite.co.uk%2Fe%2Fdisrupted-lives-choosetochallenge-maternal-imprisonment-tickets-141969383247||target:%20_blank|” css=”.vc_custom_1614074647833{margin-top: 9px !important;margin-bottom: 25px !important;}”][vc_column_text]Join Birth Companions and Clean Break online for a special International Women’s Day event\, Disrupted Lives: #ChooseToChallenge Maternal Imprisonment. \nWith performances from Clean Break’s plays and a panel discussion\, the event will explore the issues relating to maternal imprisonment; champion women’s resilience through adversity; and open up conversations around how we can all help drive positive change. \nThe panel and performances will be followed by an opportunity to ask questions and discuss what we can all do now to challenge maternal imprisonment.[/vc_column_text][/vc_column][/vc_row]
URL:https://artsincriminaljustice.org.uk/event/disrupted-lives-choosetochallenge-maternal-imprisonment/
LOCATION:Online
CATEGORIES:Events and training
ATTACH;FMTTYPE=image/jpeg:https://artsincrimjustice.s3.eu-west-2.amazonaws.com/wp-content/uploads/2021/02/13113625/https___cdn.evbuc_.com_images_126382387_155103409631_1_original.jpg
END:VEVENT
END:VCALENDAR