BEGIN:VCALENDAR
VERSION:2.0
PRODID:-//National Criminal Justice Arts Alliance - ECPv6.3.5//NONSGML v1.0//EN
CALSCALE:GREGORIAN
METHOD:PUBLISH
X-ORIGINAL-URL:https://artsincriminaljustice.org.uk
X-WR-CALDESC:Events for National Criminal Justice Arts Alliance
REFRESH-INTERVAL;VALUE=DURATION:PT1H
X-Robots-Tag:noindex
X-PUBLISHED-TTL:PT1H
BEGIN:VTIMEZONE
TZID:Europe/London
BEGIN:DAYLIGHT
TZOFFSETFROM:+0000
TZOFFSETTO:+0100
TZNAME:BST
DTSTART:20210328T010000
END:DAYLIGHT
BEGIN:STANDARD
TZOFFSETFROM:+0100
TZOFFSETTO:+0000
TZNAME:GMT
DTSTART:20211031T010000
END:STANDARD
END:VTIMEZONE
BEGIN:VEVENT
DTSTART;TZID=Europe/London:20210302T170000
DTEND;TZID=Europe/London:20210302T180000
DTSTAMP:20260419T214708
CREATED:20210223T103111Z
LAST-MODIFIED:20210223T162100Z
UID:7468-1614704400-1614708000@artsincriminaljustice.org.uk
SUMMARY:Ain't Nuff Time - Research Workshop for Criminal Justice Practitioners
DESCRIPTION:[vc_row][vc_column][vc_column_text]2nd March | online | free[/vc_column_text][vc_btn title=”Register here” style=”flat” shape=”square” color=”danger” link=”url:https%3A%2F%2Fwww.eventbrite.co.uk%2Fe%2Faint-nuff-time-research-workshop-criminal-justice-practitioners-tickets-141013237389||target:%20_blank|” css=”.vc_custom_1614076108020{margin-top: 9px !important;margin-bottom: 25px !important;}”][vc_column_text]Theatre company Imagine If are inviting people working in the criminal justice system to a free online workshop to share their experiences\, get creative\, have fun\, and help shape the script for their upcoming film. \nThe workshop is aimed at prison officers\, Learning & Skills Managers\, prison chaplains\, prison arts teachers\, governors\, probation officers or anyone else who works in the criminal justice system. Imagine If will build on the experiences of participants in writing the script for a new film to be disseminated in prisons later this year\, to ensure that the film is relatable\, relevant and truthful.[/vc_column_text][/vc_column][/vc_row]
URL:https://artsincriminaljustice.org.uk/event/aint-nuff-time-research-workshop-for-criminal-justice-practitioners/
LOCATION:Online
CATEGORIES:Events and training
ATTACH;FMTTYPE=image/jpeg:https://artsincrimjustice.s3.eu-west-2.amazonaws.com/wp-content/uploads/2021/02/13113625/imagine-if.jpg
END:VEVENT
END:VCALENDAR