BEGIN:VCALENDAR
VERSION:2.0
PRODID:-//National Criminal Justice Arts Alliance - ECPv6.3.5//NONSGML v1.0//EN
CALSCALE:GREGORIAN
METHOD:PUBLISH
X-ORIGINAL-URL:https://artsincriminaljustice.org.uk
X-WR-CALDESC:Events for National Criminal Justice Arts Alliance
REFRESH-INTERVAL;VALUE=DURATION:PT1H
X-Robots-Tag:noindex
X-PUBLISHED-TTL:PT1H
BEGIN:VTIMEZONE
TZID:Europe/London
BEGIN:DAYLIGHT
TZOFFSETFROM:+0000
TZOFFSETTO:+0100
TZNAME:BST
DTSTART:20210328T010000
END:DAYLIGHT
BEGIN:STANDARD
TZOFFSETFROM:+0100
TZOFFSETTO:+0000
TZNAME:GMT
DTSTART:20211031T010000
END:STANDARD
END:VTIMEZONE
BEGIN:VEVENT
DTSTART;TZID=Europe/London:20210301T100000
DTEND;TZID=Europe/London:20210301T120000
DTSTAMP:20260419T214708
CREATED:20210225T122649Z
LAST-MODIFIED:20210225T122649Z
UID:7482-1614592800-1614600000@artsincriminaljustice.org.uk
SUMMARY:The Arts of Punishment: Experiences of Injustice\, Prison & Artistic Expression
DESCRIPTION:[vc_row][vc_column][vc_column_text]1st March | online | free[/vc_column_text][vc_btn title=”Find out more and book” style=”flat” shape=”square” color=”danger” link=”url:https%3A%2F%2Fwarwick.ac.uk%2Ffac%2Fsoc%2Flaw%2Fresearch%2Fcentres%2Fcjc%2Fresearch%2Fthe-arts-of-punishment%2F||target:%20_blank|” css=”.vc_custom_1614255530619{margin-top: 9px !important;margin-bottom: 9px !important;}”][vc_column_text css=”.vc_custom_1614255918505{margin-top: 25px !important;}”]The University of Warwick is hosting an interactive Q&A session focused on unpacking lessons from lived experiences of imprisonment and injustice. Organised as part of Warwick’s sociology course but open to all\, it features panellists who have been impacted by criminal justice institutions\, policies and rationales and have used creative expression to communicate and make sense of their experiences. Focusing on a number of enduring problems facing criminal justice\, the panel will explore how to move towards challenging racism\, inequalities and stigma in the context of criminal justice. The event is aimed at students of law\, criminology\, sociology\, politics or anyone else interested in hearing from first-hand accounts of prison\, justice and marginalisation. \nPanellists include spoken word artist Jason Smith; poet and NCJAA Steering Group member Brenda Birungi a.k.a. Lady Unchained; and Safe Ground’s Executive Director Charlotte Weinberg. \nImage credit: Still from The Forgotten People by Lady Unchained and Tracy Kiryango[/vc_column_text][/vc_column][/vc_row]
URL:https://artsincriminaljustice.org.uk/event/the-arts-of-punishment-experiences-of-injustice-prison-artistic-expression/
CATEGORIES:Events and training
ATTACH;FMTTYPE=image/jpeg:https://artsincrimjustice.s3.eu-west-2.amazonaws.com/wp-content/uploads/2021/01/13113628/brenda.jpg
END:VEVENT
END:VCALENDAR