BEGIN:VCALENDAR
VERSION:2.0
PRODID:-//National Criminal Justice Arts Alliance - ECPv6.3.5//NONSGML v1.0//EN
CALSCALE:GREGORIAN
METHOD:PUBLISH
X-ORIGINAL-URL:https://artsincriminaljustice.org.uk
X-WR-CALDESC:Events for National Criminal Justice Arts Alliance
REFRESH-INTERVAL;VALUE=DURATION:PT1H
X-Robots-Tag:noindex
X-PUBLISHED-TTL:PT1H
BEGIN:VTIMEZONE
TZID:Europe/London
BEGIN:DAYLIGHT
TZOFFSETFROM:+0000
TZOFFSETTO:+0100
TZNAME:BST
DTSTART:20200329T010000
END:DAYLIGHT
BEGIN:STANDARD
TZOFFSETFROM:+0100
TZOFFSETTO:+0000
TZNAME:GMT
DTSTART:20201025T010000
END:STANDARD
END:VTIMEZONE
BEGIN:VEVENT
DTSTART;VALUE=DATE:20200131
DTEND;VALUE=DATE:20200328
DTSTAMP:20260420T174128
CREATED:20200122T110609Z
LAST-MODIFIED:20200122T115130Z
UID:6827-1580428800-1585353599@artsincriminaljustice.org.uk
SUMMARY:Good Vibrations prison play-throughs
DESCRIPTION:31st January – 27th March 2020\nVarious prisons in England\nFree \nGood Vibrations‘ play-throughs are the culmination of its gamelan courses. These courses help prisoners\, patients in high security hospitals\, former prisoners and vulnerable people in the community to develop crucial life and work skills such as communication and team-working. This is done through learning to play gamelan (an Indonesian bronze percussion orchestra)\, an extremely accessible and communal form of music. \nThe next play-throughs will be taking place at: \nHMP Stoke Heath (Market Drayton) – morning of Friday 31st January (likely start time 10.00am)\nThis will be our first visit to HMP Stoke Heath\, an adult male prison in Shropshire. We’ll be working with more vulnerable prisoners with mental health issues who are often isolated. We’ll be offering the men the chance to gain an OCN Team-working qualification award.  \nHMP Thorn Cross (Warrington) – morning of Friday 7th February (likely start time 10.00am)\nHMP Thorn Cross is a Category D adult\, male open prison in Cheshire. This will be our fourth visit and we hope to end the week with a special performance with past participants. \nHMP Parkhurst (Isle of Wight) – morning of Friday 21st February (likely start time tbc)\nWe’re looking forward to going back to HMP Parkhurst on the Isle of Wight. On this course we’ll be offering participants the opportunity to gain an OCN Team-working qualification award for the first time. \nHMP Manchester – morning of Friday 28th February (likely start time 10.00am)\nHMP Manchester\, formerly known as Strangeways\, is a local prison which accepts people remanded into custody.  We will be running morning sessions only with a performance on the last day. \nHMP Liverpool – morning of Friday 27th March (likely start time 10.00am)\nThis will be our fourth visit to HMP Liverpool\, a category B/C local men’s prison. The course will end with a performance in front of participants’ friends and families. \nIf you are interested in coming along to any of these play-throughs\, please contact Good Vibrations as soon as possible: jane@good-vibrations.org.uk \n\nImage courtesy of Good Vibrations
URL:https://artsincriminaljustice.org.uk/event/good-vibrations-showcases/
LOCATION:Various – UK\, Various\, United Kingdom
CATEGORIES:Events and training
ATTACH;FMTTYPE=image/jpeg:https://artsincrimjustice.s3.eu-west-2.amazonaws.com/wp-content/uploads/2020/01/13113655/good-vibrations-scaled.jpg
END:VEVENT
BEGIN:VEVENT
DTSTART;VALUE=DATE:20200204
DTEND;VALUE=DATE:20200321
DTSTAMP:20260420T174129
CREATED:20200130T132137Z
LAST-MODIFIED:20200130T132223Z
UID:6851-1580774400-1584748799@artsincriminaljustice.org.uk
SUMMARY:Irene Taylor Trust performances
DESCRIPTION:Dates in February and March\nLondon\, Cambridge\nFree \nThe Irene Taylor Trust is holding a series of public performances to showcase its various projects creating original music with people in contact with the criminal justice system. \n\nTuesday 4 February\, 1.45pm – Lullaby Project (collaboration with the Royal Philharmonic Orchestra) performance with migrant & refugee mothers from Praxis Community Projects (Pott Street\, London E2 0EF) – RSVP to projects@irenetaylortrust.com \nTuesday 11 February\, 2pm – Lullaby Project (collaboration with the Royal Philharmonic Orchestra) performance with migrant & refugee mothers from Praxis Community Projects (Pott Street\, London E2 0EF) – RSVP to projects@irenetaylortrust.com \nFriday 28 Feb\, morning (tbc) – Music in Prisons project with adult men\, Cambridgeshire – RSVP to projects@irenetaylortrust.com\nTuesday 3 March\, 3pm (arrive by 2.30pm) – Lullaby Project (collaboration with the Royal Philharmonic Orchestra) performance with mothers & fathers with experience of the criminal justice system from Clean Break & Sounding Out (Expedia\, Angel Building\, 407 St John Street\, EC1V 4EX) – RSVP to projects@irenetaylortrust.com by 27/02/20\nFriday 20 March\, 3pm – Making Tracks project with The Prince’s Trust (The Prince’s Trust Morgan Stanley Centre\, 124 St Paul’s Way\, London E3 4QA)\n\nKeep an eye on its upcoming performances page for new dates. \nSee upcoming performances here\n\nImage courtesy of The Irene Taylor Trust\, credit Lizzie Coombes
URL:https://artsincriminaljustice.org.uk/event/irene-taylor-trust-performances/
LOCATION:Various – UK\, Various\, United Kingdom
CATEGORIES:Events and training
ATTACH;FMTTYPE=image/jpeg:https://artsincrimjustice.s3.eu-west-2.amazonaws.com/wp-content/uploads/2016/10/13114210/1-SOUNDING-OUT-LizzieCoombes-098.jpg
END:VEVENT
BEGIN:VEVENT
DTSTART;VALUE=DATE:20200208
DTEND;VALUE=DATE:20200907
DTSTAMP:20260420T174129
CREATED:20200130T133440Z
LAST-MODIFIED:20200130T133440Z
UID:6858-1581120000-1599436799@artsincriminaljustice.org.uk
SUMMARY:Prisoners on Prisoners
DESCRIPTION:8th February – 6th September\nRipon\nFrom £5.50 \nPrisoners on Prisoners is an installation at Ripon Prison and Police Museum that shares the experiences of current and historic female prisoners through audio\, textile and photography. \nArtist Faye Claridge has been connecting prison archives with inmates at HMP Askham Grange\, to explore similarities and differences in their lives and prison experiences. Workshops using the museum’s Edwardian and Victorian criminal record books to give prisoners a way to share their perspectives and for museum visitors to consider the individual lived experience of justice systems. \nThe results have been compiled as a film and large-scale fabric print installation for cell 13 of the Victorian Ripon Prison and Police Museum. \nThe participants at Askham Grange really connected with the museum archives. Their thoughts on how prison has changed their lives and what changes might have helped prisoners 100-or-so years ago are really moving.\nFaye Claridge \nBook here\n\nImage courtesy of Faye Claridge
URL:https://artsincriminaljustice.org.uk/event/prisoners-on-prisoners/
LOCATION:Ripon\, Ripon\, United Kingdom
CATEGORIES:Events and training
ATTACH;FMTTYPE=image/jpeg:https://artsincrimjustice.s3.eu-west-2.amazonaws.com/wp-content/uploads/2020/01/13113652/prisoners_on_prisoners_gwendoline_quote.jpg
END:VEVENT
BEGIN:VEVENT
DTSTART;VALUE=DATE:20200226
DTEND;VALUE=DATE:20200322
DTSTAMP:20260420T174129
CREATED:20191219T121003Z
LAST-MODIFIED:20200207T175807Z
UID:6770-1582675200-1584835199@artsincriminaljustice.org.uk
SUMMARY:The Special Relationship
DESCRIPTION:26th February – 21st March\nSoho Theatre\, London\nFrom £10 \nYes I was deported back. Old Trump sent me here. Anything happens to my family\, I’m coming across that ocean if I got to come in a tugboat\, singing\, “Row\, row\, row your boat”. \nSynergy Theatre Project‘s latest production uses interviews with ex-prisoners and experts in immigration and criminal law and features true stories of people caught up in immigration detention and deportation. \nThe Special Relationship was written by Hassan Abdulrazzak and researched in collaboration with Prisoners Abroad\, a UK charity supporting British citizens imprisoned overseas and returning to the UK. \nBook now\n\nImage courtesy of Synergy Theatre Project \n 
URL:https://artsincriminaljustice.org.uk/event/the-special-relationship/
LOCATION:London – Generic\, London\, United Kingdom
CATEGORIES:Events and training
ATTACH;FMTTYPE=image/jpeg:https://artsincrimjustice.s3.eu-west-2.amazonaws.com/wp-content/uploads/2019/12/13113649/Special-relationship-eflyer-no-text.jpg
END:VEVENT
BEGIN:VEVENT
DTSTART;VALUE=DATE:20200307
DTEND;VALUE=DATE:20200427
DTSTAMP:20260420T174129
CREATED:20200227T154132Z
LAST-MODIFIED:20200227T154132Z
UID:6907-1583539200-1587945599@artsincriminaljustice.org.uk
SUMMARY:Unlocked 2
DESCRIPTION:7th – 26th April\nLeicester\nFree \nNew Walk Museum & Art Gallery and Soft Touch Arts invite you to visit their second ‘Unlocked’ exhibition. \nThe art on display was created by prisoners at HMP Leicester\, HMP Stocken and by people on probation. The aim of the installation is to give an opportunity to get a sense of what life is like in prison and how art provides opportunities to maintain wellbeing. \nThe exhibition includes testimonies from the artists about how creative practice has helped to transform their lives. \n\nImage courtesy of Soft Touch Arts
URL:https://artsincriminaljustice.org.uk/event/unlocked-2/
LOCATION:Leicester\, Leicester\, United Kingdom
CATEGORIES:Events and training
ATTACH;FMTTYPE=image/jpeg:https://artsincrimjustice.s3.eu-west-2.amazonaws.com/wp-content/uploads/2020/02/13113646/unlockedflyer-scaled.jpg
END:VEVENT
END:VCALENDAR