BEGIN:VCALENDAR
VERSION:2.0
PRODID:-//National Criminal Justice Arts Alliance - ECPv6.3.5//NONSGML v1.0//EN
CALSCALE:GREGORIAN
METHOD:PUBLISH
X-ORIGINAL-URL:https://artsincriminaljustice.org.uk
X-WR-CALDESC:Events for National Criminal Justice Arts Alliance
REFRESH-INTERVAL;VALUE=DURATION:PT1H
X-Robots-Tag:noindex
X-PUBLISHED-TTL:PT1H
BEGIN:VTIMEZONE
TZID:Europe/London
BEGIN:DAYLIGHT
TZOFFSETFROM:+0000
TZOFFSETTO:+0100
TZNAME:BST
DTSTART:20190331T010000
END:DAYLIGHT
BEGIN:STANDARD
TZOFFSETFROM:+0100
TZOFFSETTO:+0000
TZNAME:GMT
DTSTART:20191027T010000
END:STANDARD
BEGIN:DAYLIGHT
TZOFFSETFROM:+0000
TZOFFSETTO:+0100
TZNAME:BST
DTSTART:20200329T010000
END:DAYLIGHT
BEGIN:STANDARD
TZOFFSETFROM:+0100
TZOFFSETTO:+0000
TZNAME:GMT
DTSTART:20201025T010000
END:STANDARD
END:VTIMEZONE
BEGIN:VEVENT
DTSTART;VALUE=DATE:20190726
DTEND;VALUE=DATE:20191104
DTSTAMP:20260421T015149
CREATED:20190802T155817Z
LAST-MODIFIED:20190802T160201Z
UID:6372-1564099200-1572825599@artsincriminaljustice.org.uk
SUMMARY:The Trial
DESCRIPTION:26th July – 26th August 2019\, Spike Island\, Cork\n29th August – 12th September 2019\, Lifford Courthouse\, Donegal\n26th September – 3rd November 2019\, Dublin Castle\, Dublin \nThe Trial is a visual art installation on healthcare and human rights in the Irish criminal justice system\, created by Sinead McCann and made in collaboration with men from the Bridge Project Dublin who have lived prison experiences. \nThe project accompanies research by University College Dublin historians\, Catherine Cox and Fiachra Byrne for the project ‘Prisoners\, Medical Care and Entitlement to Health in England and Ireland\, 1850-2000’. \nOn multiple screens\, three characters – Tommy\, Charlie\, Neili – tell the real life stories of those who have been held or worked in Irish penal institutions during the nineteenth and twentieth centuries. \nThe Trial is produced in collaboration with Theatre of the Oppressed specialist Sarah Meaney\, and Mary Caffrey and Dan Monk of Sixbetween video production company. \nFind out more and book \n\nImage courtesy of Sinead McCann & Sixbetween
URL:https://artsincriminaljustice.org.uk/event/the-trial/
LOCATION:ireland – generic\, Various\, Ireland
ATTACH;FMTTYPE=image/jpeg:https://artsincrimjustice.s3.eu-west-2.amazonaws.com/wp-content/uploads/2019/08/13113728/The-Trial-Video-Stills-by-Sixbetween-%C2%A9-Sinead-McCann-Sixbetween..jpg
END:VEVENT
BEGIN:VEVENT
DTSTART;VALUE=DATE:20190828
DTEND;VALUE=DATE:20200113
DTSTAMP:20260421T015149
CREATED:20191024T150122Z
LAST-MODIFIED:20191024T150936Z
UID:6632-1566950400-1578873599@artsincriminaljustice.org.uk
SUMMARY:I am the Coyote
DESCRIPTION:28th August 2019 – 12th January 2020\nUniversity of Hull\nFree \nNovus\, the University of Hull and HMP Humber have collaborated on an exhibition titled I am the Coyote\, which aims to show the power of art as a rehabilitation tool in prisons over 45 years. \nI am the Coyote includes art produced from the Special Unit 74 and HMP Humber’s GRAFT Studio\, the largest art college in the UK prison sector and a unique space where prisoners are able to focus on creativity and its benefits. Colour photographs document the group thinking and creative process as well as the experiential teaching strategies. \nThe exhibition has been commissioned as part of the University’s Culture Campus initiative and is on show at the Brynmor Jones Library. \nOur vision is to wholeheartedly embrace provocative topics and encourage discussion and debate across our campus. This exhibition will do just that and we couldn’t be more delighted.\nMarianne Lewsley-Stier\, Head of Culture Campus at the University of Hull \nThe exhibition is accompanied by a series of free workshops\, screenings and debates. \n\nFind out more here\n\nImage courtesy of Culture Campus\, University of Hull
URL:https://artsincriminaljustice.org.uk/event/i-am-the-coyote/
LOCATION:Hull\, Hull\, United Kingdom
CATEGORIES:Events and training
ATTACH;FMTTYPE=image/jpeg:https://artsincrimjustice.s3.eu-west-2.amazonaws.com/wp-content/uploads/2019/10/13113704/coyotte.jpg
END:VEVENT
BEGIN:VEVENT
DTSTART;VALUE=DATE:20190919
DTEND;VALUE=DATE:20191104
DTSTAMP:20260421T015149
CREATED:20190403T121301Z
LAST-MODIFIED:20190815T102238Z
UID:5934-1568851200-1572825599@artsincriminaljustice.org.uk
SUMMARY:Koestler exhibition 2019
DESCRIPTION:19th September – 3rd November 2019\nSouthbank Centre\, London\nFREE \nOpening festival: 18th September \nKoestler Arts‘ exhibition of art entered in to its annual awards continues this year at London’s Southbank Centre. \nThe award-winning saxophonist and MC Soweto Kinch will be curating the exhibition\, following the footsteps of Antony Gormley and Benjamin Zephaniah. Soweto’s themes range from slavery and emancipation to sacred geometry. \nOver 150 artworks will be on display\, from music and poetry to paintings\, drawings and sculpture. \nTitled Another Me\, the exhibition invites visitors to reassess their perceptions of people who have spent time inside. \nFind out more here \n\nThe Koestler Arts is the UK’s best-known prison arts charity. Each year it encourages over 3\,500 people within the criminal justice system to express themselves creatively and learn new skills by entering work to their annual Koestler Awards. \n\nImage: The Test\, HM Prison Greenock. Courtesy of Koestler Arts
URL:https://artsincriminaljustice.org.uk/event/koestler-exhibition-2019/
LOCATION:London – Generic\, London\, United Kingdom
CATEGORIES:Events and training
ATTACH;FMTTYPE=image/jpeg:https://artsincrimjustice.s3.eu-west-2.amazonaws.com/wp-content/uploads/2019/04/13113734/another-me.jpg
END:VEVENT
BEGIN:VEVENT
DTSTART;VALUE=DATE:20191005
DTEND;VALUE=DATE:20191025
DTSTAMP:20260421T015149
CREATED:20190924T164309Z
LAST-MODIFIED:20190924T164738Z
UID:6542-1570233600-1571961599@artsincriminaljustice.org.uk
SUMMARY:Koestler Arts at Southbank Centre in October
DESCRIPTION:Koestler Arts presents a series of events to coincide with its annual exhibition at Southbank Centre\, this year titled Another Me. All events are free to attend unless otherwise stated. \n\nVoices Out Loud\nSaturday 5th\, Sunday 13th October\nActors from Synergy Theatre Project\, with lived experience of the criminal justice system\, perform texts by Koestler Awards entrants. \nKoestler Curates: Friday Lunch\nFriday 11th October\nThe Irene Taylor Trust has been running its through the gate programme\, Sounding Out\, since 2012. The Pinnacle – the fourth band formed on the programme – will perform some of their original tracks live. \nKoestler Curates: Friday Lunch\nFriday 1st November\nThe Liberty Choir\, a community choir made up of those with lived experience of the criminal justice system and those without\, will perform live. The choir runs programmes in prisons\, engaging prisoners in the power of singing together. \nStory Circle\nThursday 24 October\nImprovise a collective story as part of a story circle in the exhibition space at Another Me. In collaboration with Hammersmith and Fulham Libraries\, storyteller Richard Neville has been trialling story-making sessions with groups including prisoners. \nVoices from Prison\nThursday 24th October (£8)\nHear powerful performances of written and recorded works entered into the 2019 Koestler Awards for artwork made by people in prison. Hosted by spoken word artist and Koestler Awards judge Wanda Canton. \n\nFind out more and book here\n\nImage: Reinforcements\, HM Prison Standford Hill (Sheppey Cluster)\, Needlecraft\, 2019\, courtesy of Koestler Arts
URL:https://artsincriminaljustice.org.uk/event/koestler-arts-at-southbank-centre-in-october/
LOCATION:London – Generic\, London\, United Kingdom
CATEGORIES:Events and training
ATTACH;FMTTYPE=image/jpeg:https://artsincrimjustice.s3.eu-west-2.amazonaws.com/wp-content/uploads/2019/09/13113709/Reinforcements-HM-Prison-Standford-Hill-Sheppey-Cluster-Needlecraft-2019.jpg
END:VEVENT
BEGIN:VEVENT
DTSTART;TZID=Europe/London:20191014T170000
DTEND;TZID=Europe/London:20191014T190000
DTSTAMP:20260421T015149
CREATED:20190823T103947Z
LAST-MODIFIED:20190823T103947Z
UID:6461-1571072400-1571079600@artsincriminaljustice.org.uk
SUMMARY:Learning Social – Arts in Prison
DESCRIPTION:14th October 2019\n5 – 7pm\nIkon Gallery\, Birmingham\n£3 \nArtist Lisa Selby and speaker Elliot Murawski confront issues of addiction\, mental health and incarceration through the Instagram account @bluebaglife\, while Sarah McNally\, Youth Programme Coordinator at the Hepworth Wakefield\, shares experiences of working between youth offending and gallery spaces. \nThe session is chaired by Dr Dean Kelland\, Ikon’s Artist in Residence at HMP Grendon. Supported by the Marie-Louise von Motesiczky Charitable Trust. \n\nBook here\n\nImage courtesy of Ikon Gallery and Koestler Arts
URL:https://artsincriminaljustice.org.uk/event/learning-social-arts-in-prison/
LOCATION:Birmingham – Generic\, Birmingham\, United Kingdom
CATEGORIES:Events and training
ATTACH;FMTTYPE=image/jpeg:https://artsincrimjustice.s3.eu-west-2.amazonaws.com/wp-content/uploads/2019/08/13113726/LEARNING-SOCIAL_KOESTLER-IMAGE-1-Medium-600x400.jpg
END:VEVENT
END:VCALENDAR