BEGIN:VCALENDAR
VERSION:2.0
PRODID:-//National Criminal Justice Arts Alliance - ECPv6.3.5//NONSGML v1.0//EN
CALSCALE:GREGORIAN
METHOD:PUBLISH
X-WR-CALNAME:National Criminal Justice Arts Alliance
X-ORIGINAL-URL:https://artsincriminaljustice.org.uk
X-WR-CALDESC:Events for National Criminal Justice Arts Alliance
REFRESH-INTERVAL;VALUE=DURATION:PT1H
X-Robots-Tag:noindex
X-PUBLISHED-TTL:PT1H
BEGIN:VTIMEZONE
TZID:Europe/London
BEGIN:DAYLIGHT
TZOFFSETFROM:+0000
TZOFFSETTO:+0100
TZNAME:BST
DTSTART:20190331T010000
END:DAYLIGHT
BEGIN:STANDARD
TZOFFSETFROM:+0100
TZOFFSETTO:+0000
TZNAME:GMT
DTSTART:20191027T010000
END:STANDARD
END:VTIMEZONE
BEGIN:VEVENT
DTSTART;VALUE=DATE:20190612
DTEND;VALUE=DATE:20190922
DTSTAMP:20260421T064148
CREATED:20190705T111947Z
LAST-MODIFIED:20190705T115329Z
UID:6213-1560297600-1569110399@artsincriminaljustice.org.uk
SUMMARY:Sweatbox
DESCRIPTION:12th June – 21st September\nChichester\, London\, Suffolk\, Manchester\nFrom Free \nClean Break‘s Sweatbox invites you to enter the back of a prison van in which three women inside share their stories of arrival and anticipation as they are transported from court to prison\, from prison to prison\, from prison to court. \nWritten by Chloë Moss\nDirected by Anna Herrmann \nBooking: \n12-15 June: Chichester Festival Theatre BOOK HERE\n28 June: Clean Break BOOK HERE\n24 August: Snape Maltings Proms BOOK HERE  \n19-21 September: HOME Manchester BOOK HERE \n\nImage courtesy of Clean Break\, credit Tracey Anderson
URL:https://artsincriminaljustice.org.uk/event/sweatbox/
LOCATION:Various – UK\, Various\, United Kingdom
CATEGORIES:Events and training
ATTACH;FMTTYPE=image/png:https://artsincrimjustice.s3.eu-west-2.amazonaws.com/wp-content/uploads/2019/07/13113737/sweatbox.png
END:VEVENT
END:VCALENDAR