BEGIN:VCALENDAR
VERSION:2.0
PRODID:-//National Criminal Justice Arts Alliance - ECPv6.3.5//NONSGML v1.0//EN
CALSCALE:GREGORIAN
METHOD:PUBLISH
X-WR-CALNAME:National Criminal Justice Arts Alliance
X-ORIGINAL-URL:https://artsincriminaljustice.org.uk
X-WR-CALDESC:Events for National Criminal Justice Arts Alliance
REFRESH-INTERVAL;VALUE=DURATION:PT1H
X-Robots-Tag:noindex
X-PUBLISHED-TTL:PT1H
BEGIN:VTIMEZONE
TZID:Europe/London
BEGIN:DAYLIGHT
TZOFFSETFROM:+0000
TZOFFSETTO:+0100
TZNAME:BST
DTSTART:20190331T010000
END:DAYLIGHT
BEGIN:STANDARD
TZOFFSETFROM:+0100
TZOFFSETTO:+0000
TZNAME:GMT
DTSTART:20191027T010000
END:STANDARD
END:VTIMEZONE
BEGIN:VEVENT
DTSTART;VALUE=DATE:20190513
DTEND;VALUE=DATE:20190616
DTSTAMP:20260421T081859
CREATED:20190528T141754Z
LAST-MODIFIED:20190528T141754Z
UID:6121-1557705600-1560643199@artsincriminaljustice.org.uk
SUMMARY:The Listening Room
DESCRIPTION:Playground Theatre\, London – 13 May\nTheatr Clwyd – 14/15 May\nOldham Coliseum – 16 May \nHMP Grendon – 17 May\nGlassbox Theatre\, Kent – 18 May\nLighthouse Poole – 23 May\nCheltenham Everyman – 24/25 May\nNorthern Stage – 29 May\nHarrogate Theatre – 30/31 May\nThe Spring\, Havant – 8 June\nCast in Doncaster – 11 June\nArlington Arts – 12 June\nThe Lowry\, Salford – 13-15 June \nBOOK HERE \nThe Listening Room features the true stories of five people whose lives have been transformed by a violent crime. It explores what happens when a crime is humanised and how restorative justice can have a huge impact on helping to create a less violent society. \nA painful\, shocking\, vital\, uplifting experience. Quite unforgettable.”\nThe Spectator \nFollowing an extract performance at the National Criminal Justice Arts Alliance’s 2017 annual conference\, the play is embarking on a tour of UK theatres\, prisons and schools. \nFind out more and book here \n\nImage courtesy of Crowded Room
URL:https://artsincriminaljustice.org.uk/event/the-listening-room/
LOCATION:Various – UK\, Various\, United Kingdom
CATEGORIES:Events and training
ATTACH;FMTTYPE=image/jpeg:https://artsincrimjustice.s3.eu-west-2.amazonaws.com/wp-content/uploads/2017/12/13114124/The-Listening-Room-3.jpg
END:VEVENT
BEGIN:VEVENT
DTSTART;VALUE=DATE:20190610
DTEND;VALUE=DATE:20190617
DTSTAMP:20260421T081859
CREATED:20190528T150904Z
LAST-MODIFIED:20190528T150904Z
UID:6130-1560124800-1560729599@artsincriminaljustice.org.uk
SUMMARY:Recovery Movements: art\, addiction\, activism
DESCRIPTION:10th – 16th June 2019\nTate Exchange Liverpool\nFree \nTake part in a series of creative conversations and dance improvisations led by community dancers from Fallen Angels Dance Theatre and Dr. Zoe Zontou (Liverpool Hope University) and Alastair Roy (University of Central Lancashire). \nThe programme of activities responds to the themes of Tate Liverpool’s Keith Haring exhibition and will include installations\, dance improvisations\, talks and new conversations about art and addiction recovery. The work will invite visitors to consider the role that art can play in supporting the everyday recovery struggles of people with addiction issues. \nFind out more and book here \n\nImage courtesy of Fallen Angels\, credit Andrew Millar
URL:https://artsincriminaljustice.org.uk/event/recovery-movements-art-addiction-activism/
LOCATION:Liverpool – generic\, Liverpool\, United Kingdom
CATEGORIES:Events and training
ATTACH;FMTTYPE=image/jpeg:https://artsincrimjustice.s3.eu-west-2.amazonaws.com/wp-content/uploads/2019/05/13113747/fallen-angels.jpg
END:VEVENT
END:VCALENDAR