BEGIN:VCALENDAR
VERSION:2.0
PRODID:-//National Criminal Justice Arts Alliance - ECPv6.3.5//NONSGML v1.0//EN
CALSCALE:GREGORIAN
METHOD:PUBLISH
X-WR-CALNAME:National Criminal Justice Arts Alliance
X-ORIGINAL-URL:https://artsincriminaljustice.org.uk
X-WR-CALDESC:Events for National Criminal Justice Arts Alliance
REFRESH-INTERVAL;VALUE=DURATION:PT1H
X-Robots-Tag:noindex
X-PUBLISHED-TTL:PT1H
BEGIN:VTIMEZONE
TZID:Europe/London
BEGIN:DAYLIGHT
TZOFFSETFROM:+0000
TZOFFSETTO:+0100
TZNAME:BST
DTSTART:20190331T010000
END:DAYLIGHT
BEGIN:STANDARD
TZOFFSETFROM:+0100
TZOFFSETTO:+0000
TZNAME:GMT
DTSTART:20191027T010000
END:STANDARD
END:VTIMEZONE
BEGIN:VEVENT
DTSTART;TZID=Europe/London:20190121T173000
DTEND;TZID=Europe/London:20190121T210000
DTSTAMP:20260421T164902
CREATED:20190115T112825Z
LAST-MODIFIED:20190115T112901Z
UID:5322-1548091800-1548104400@artsincriminaljustice.org.uk
SUMMARY:Film screening: Tre Maison Dasan
DESCRIPTION:Monday 21st January\nThe Roundhouse\, London\nDoors 5.30pm\n£5 \nSafe Ground\, in association with Hello World Productions\, present a feature length documentary about the impact of parental imprisonment\, followed by a community conversation. \nThe winner of 2018 award for Best Documentary Feature at Raindance Film Festival\, Tre Maison Dasan is an intimate portrait of three boys growing up\, each with a parent in prison. Directly told from the child’s perspective\, the film is an exploration of relationships and separation\, masculinity\, and coming of age in America when a parent is behind bars. \nClick here to book \n\nSafe Ground is an award-winning charity delivering therapeutic group work with fathers in UK prisons since 2003. \n\nImage courtesy of Safe Ground and Hello World Productions
URL:https://artsincriminaljustice.org.uk/event/film-screening-tre-maison-dasan/
LOCATION:London – Generic\, London\, United Kingdom
CATEGORIES:Events and training
ATTACH;FMTTYPE=image/png:https://artsincrimjustice.s3.eu-west-2.amazonaws.com/wp-content/uploads/2019/01/13113947/Screen-Shot-2019-01-15-at-11.25.07.png
END:VEVENT
END:VCALENDAR