BEGIN:VCALENDAR
VERSION:2.0
PRODID:-//National Criminal Justice Arts Alliance - ECPv6.3.5//NONSGML v1.0//EN
CALSCALE:GREGORIAN
METHOD:PUBLISH
X-ORIGINAL-URL:https://artsincriminaljustice.org.uk
X-WR-CALDESC:Events for National Criminal Justice Arts Alliance
REFRESH-INTERVAL;VALUE=DURATION:PT1H
X-Robots-Tag:noindex
X-PUBLISHED-TTL:PT1H
BEGIN:VTIMEZONE
TZID:Europe/London
BEGIN:DAYLIGHT
TZOFFSETFROM:+0000
TZOFFSETTO:+0100
TZNAME:BST
DTSTART:20180325T010000
END:DAYLIGHT
BEGIN:STANDARD
TZOFFSETFROM:+0100
TZOFFSETTO:+0000
TZNAME:GMT
DTSTART:20181028T010000
END:STANDARD
BEGIN:DAYLIGHT
TZOFFSETFROM:+0000
TZOFFSETTO:+0100
TZNAME:BST
DTSTART:20190331T010000
END:DAYLIGHT
BEGIN:STANDARD
TZOFFSETFROM:+0100
TZOFFSETTO:+0000
TZNAME:GMT
DTSTART:20191027T010000
END:STANDARD
END:VTIMEZONE
BEGIN:VEVENT
DTSTART;VALUE=DATE:20181011
DTEND;VALUE=DATE:20181122
DTSTAMP:20260421T203101
CREATED:20180801T171216Z
LAST-MODIFIED:20181025T130409Z
UID:4420-1539216000-1542844799@artsincriminaljustice.org.uk
SUMMARY:Thick as Thieves
DESCRIPTION:  \n11 October 2018 – 21 November 2018\nTheatr Clywd | Salisbury Playhouse | Hull Truck\nFrom £9 \nBook now \nThick as Thieves\, co-produced by Clean Break and Theatr Clwyd and written by Katherine Chandler\, will tour the UK in November 2018. \nThe play explores two women from very different worlds: Karen has built a picture-perfect life while Gail struggles to keep hers together. When Gail re-enters Karen’s life from out of the blue she brings with her everything Karen has been running from… \nThis tense\, revealing play explores what it means to care for one another and asks who\, in a time of increasing disconnect\, we expect to look after us. \nClick here for dates and booking \n\nClean Break was set up in 1979 by two women prisoners who believed that theatre could bring the hidden stories of imprisoned women to a wider audience. Still the only women’s theatre company of its kind\, Clean Break has remained true to these roots and continues to inspire playwrights and captivate audiences with groundbreaking plays on the theme of women and crime. \n\nImage courtesy of Clean Break
URL:https://artsincriminaljustice.org.uk/event/thick-as-thieves/
LOCATION:Various – UK\, Various\, United Kingdom
CATEGORIES:Events and training
ATTACH;FMTTYPE=image/jpeg:https://artsincrimjustice.s3.eu-west-2.amazonaws.com/wp-content/uploads/2018/08/13114047/thick-as-thieves-image-website.jpg
END:VEVENT
BEGIN:VEVENT
DTSTART;VALUE=DATE:20181023
DTEND;VALUE=DATE:20190121
DTSTAMP:20260421T203101
CREATED:20180926T133232Z
LAST-MODIFIED:20180926T133451Z
UID:4822-1540252800-1548028799@artsincriminaljustice.org.uk
SUMMARY:Lucy Orta: Procession Banners
DESCRIPTION:23rd October 2018 – 20th January 2019\nTuesday – Sunday\, 10am – 5pm\nMedicine Bakery and Gallery\, Birmingham\nFree\, suggested donation £3 \nEarly this year artist Lucy Orta collaborated with female residents of HMP Downview to design 30 banners to mark 100 years since British women won the vote. In 2016\, many residents were transferred to HMP Downview after the closure of HMP Holloway\, then the largest all women prison in Europe\, and the notorious site where over 1\,000 suffragettes were imprisoned. Seven banners were carried by London College of Fashion students as part of the centenary Processions march\, produced by Artichoke\, in London\, Cardiff\, Edinburgh and Belfast on 10th June 2018. \nIkon Gallery exhibits a selection of banners for the first time at Medicine\, the former gallery of the Royal Birmingham Society of Artists. \nClick here for more information \n\nPhoto courtesy of Ikon Gallery and Michelle Marshall
URL:https://artsincriminaljustice.org.uk/event/lucy-orta-procession-banners/
LOCATION:Birmingham – Generic\, Birmingham\, United Kingdom
CATEGORIES:Events and training
ATTACH;FMTTYPE=image/jpeg:https://artsincrimjustice.s3.eu-west-2.amazonaws.com/wp-content/uploads/2018/09/13114027/Processions-2018-Photo-Michelle-Marshall.jpg
END:VEVENT
BEGIN:VEVENT
DTSTART;VALUE=DATE:20181031
DTEND;VALUE=DATE:20181125
DTSTAMP:20260421T203101
CREATED:20181024T114512Z
LAST-MODIFIED:20181024T114828Z
UID:4924-1540944000-1543103999@artsincriminaljustice.org.uk
SUMMARY:Guilt Trip
DESCRIPTION:31 October – 24 November 2018\n7.30pm\, Wednesdays to Saturdays\nSt Saviour’s Church\, Walton Place\, London SW3 1SA \nBOOK NOW \n\nIntermission Youth Theatre‘s modern re-telling of Shakespeare’s Much Ado about Nothing looks at loyalty\, trust\, equality\, gender and respect. \nDon P and the Aragon boys – Benedick and Claudio – have been invited to the party island of Messina by promotor Leon.  Also in Messina (unbeknown to Leon)\, is his younger sister Hero and feisty cousin Beatrice.  \nClaudio falls instantly in love with Hero and pleads with Don P to help him win Hero’ love. Don P agrees and a plan is hatched. Claudio has to marry Hero in Messina to prove he is serious! \nAlso in Messina is Don John\, Don P’s illegitimate and jealous brother.  Prepared to do anything to ruin the happiness of his brother and the Aragon boys\, Don John plots to deceive Claudio into believing Hero is unfaithful. \nMeanwhile Benedick is highly irritated by the sight of his old flame Beatrice.  Don P hatches a plan to set them up.  \nWill Claudio get his girl? Will Don John ruin the party? Will Beatrice and Benedick hook up?  \nIt’s all happening in Messina\, the land of sun\, sea and social media! \n\nImage courtesy of Intermission Youth Theatre
URL:https://artsincriminaljustice.org.uk/event/guilt-trip/
LOCATION:London – Generic\, London\, United Kingdom
CATEGORIES:Events and training
ATTACH;FMTTYPE=image/png:https://artsincrimjustice.s3.eu-west-2.amazonaws.com/wp-content/uploads/2018/10/13114018/guilt-trip.png
END:VEVENT
BEGIN:VEVENT
DTSTART;VALUE=DATE:20181114
DTEND;VALUE=DATE:20181216
DTSTAMP:20260421T203101
CREATED:20181112T190830Z
LAST-MODIFIED:20181128T145312Z
UID:5027-1542153600-1544918399@artsincriminaljustice.org.uk
SUMMARY:Bullet Tongue
DESCRIPTION:14th November – 15th December\n151 Englefield Rd\, London N1 3LH\, UK\nFrom £12.50\n \nClick here to book \nThis immersive show is an authentic trip into life on a London estate\, performed by and made with young people from Islington. They’ll take over a converted North London frame factory for a show that delves into the world of ‘County Line’ drug dealing\, where gangs set up supply chains that reach out into the countryside or coastal towns. \nBullet Tongue is presented by youth charity The Big House\, written by Andrew Day and Sonya Hale\, and directed by Maggie Norris. \nPraise for previous The Big House productions: \n“Visceral storytelling. Shot through with moments of pure theatre\, graced with vivid\, moving performances by an excellent young cast. A stirring opening statement from this exciting new theatre group.”\n– Jez Butterworth \n\nThe Big House is a charity working with care leavers and at risk young people\, staging high profile theatre and film productions. \n\nImage courtesy of The Big House
URL:https://artsincriminaljustice.org.uk/event/bullet-tongue/
LOCATION:London – Generic\, London\, United Kingdom
CATEGORIES:Events and training
ATTACH;FMTTYPE=image/jpeg:https://artsincrimjustice.s3.eu-west-2.amazonaws.com/wp-content/uploads/2018/11/13114010/Capture.jpg
END:VEVENT
BEGIN:VEVENT
DTSTART;TZID=Europe/London:20181115T100000
DTEND;TZID=Europe/London:20181115T163000
DTSTAMP:20260421T203101
CREATED:20180926T122910Z
LAST-MODIFIED:20180926T123254Z
UID:4809-1542276000-1542299400@artsincriminaljustice.org.uk
SUMMARY:Staging Rehabilitation: a masterclass
DESCRIPTION:Thursday 15th November\n10am – 4:30pm\nClean Break\, London\nTickets from £65.52 \nThree bursary places are available on this course to anyone who has had direct personal (not professional) experience of the criminal justice system. To apply for these\, please write explaining your interest in the training event to general@cleanbreak.org.uk marking your email FAO Anna Herrmann. \n\nThis masterclass is for both theatre artists and criminal justice professionals interested in the specialised field of arts in the criminal justice system. The day will be an introduction to the work of two of the leading organisations in this field. \nParticipants will: \n\nlearn about the companies different working practices\nunderstand the principles and theory underpinning their work\nexplore best practice in this field\n\nThe day will be participatory and involve drama and theatre exercises\, group work\, discussion and a plenary session at the end. \nThe course will be led by Anna Herrmann Joint Artistic Director at Clean Break and Andy Watson\, Artistic Director of Geese\, leading organisations in the field of arts and criminal justice and members of the National Criminal Justice Arts Alliance Steering Group. \nClick here to book
URL:https://artsincriminaljustice.org.uk/event/staging-rehabilitation-a-masterclass/
LOCATION:London – Generic\, London\, United Kingdom
CATEGORIES:Events and training
ATTACH;FMTTYPE=image/jpeg:https://artsincrimjustice.s3.eu-west-2.amazonaws.com/wp-content/uploads/2018/09/13114028/Staging-rehabilitation.jpg
END:VEVENT
END:VCALENDAR