BEGIN:VCALENDAR
VERSION:2.0
PRODID:-//National Criminal Justice Arts Alliance - ECPv6.3.5//NONSGML v1.0//EN
CALSCALE:GREGORIAN
METHOD:PUBLISH
X-ORIGINAL-URL:https://artsincriminaljustice.org.uk
X-WR-CALDESC:Events for National Criminal Justice Arts Alliance
REFRESH-INTERVAL;VALUE=DURATION:PT1H
X-Robots-Tag:noindex
X-PUBLISHED-TTL:PT1H
BEGIN:VTIMEZONE
TZID:Europe/London
BEGIN:DAYLIGHT
TZOFFSETFROM:+0000
TZOFFSETTO:+0100
TZNAME:BST
DTSTART:20180325T010000
END:DAYLIGHT
BEGIN:STANDARD
TZOFFSETFROM:+0100
TZOFFSETTO:+0000
TZNAME:GMT
DTSTART:20181028T010000
END:STANDARD
END:VTIMEZONE
BEGIN:VEVENT
DTSTART;VALUE=DATE:20180505
DTEND;VALUE=DATE:20180611
DTSTAMP:20260422T080927
CREATED:20180529T133902Z
LAST-MODIFIED:20180529T143442Z
UID:4238-1525478400-1528675199@artsincriminaljustice.org.uk
SUMMARY:First Impressions - Portraits from Prisons
DESCRIPTION:5th May – 10th June 2018 \nDaily\nSt Martin-in-the-Fields\, London\nFree \nThe Koestler Trust and The Prisons Mission present an exhibition touring central London churches throughout 2018. The tour began at St James’s Piccadilly\, and toured to Bloomsbury Central Baptist Church and is now at St Martins-in-the-Fields. \nThe Prisons Mission is an initiative of Churches Together in Westminster (CTiW) which provides support and assistance identified and needed by the multi-faith Chaplaincy Teams in prisons. It also aims to ensure that prisons while out of sight are not out of mind. \nThe exhibition showcases a selection of portraiture and sculpture entered into the 2017 Koestler Awards from across the UK. The artworks highlight the skills and talents of people in prisons and other secure settings and represent the strength of work that is entered into the awards scheme every year. \nFor opening times\, please visit St Martin-in-the-Field’s website \n\nImage courtesy of the Koestler Trust
URL:https://artsincriminaljustice.org.uk/event/first-impressions-portraits-from-prisons/
CATEGORIES:Events and training
ATTACH;FMTTYPE=image/jpeg:https://artsincrimjustice.s3.eu-west-2.amazonaws.com/wp-content/uploads/2018/05/13114105/portraits-from-prisons.jpg
END:VEVENT
END:VCALENDAR