BEGIN:VCALENDAR
VERSION:2.0
PRODID:-//National Criminal Justice Arts Alliance - ECPv6.3.5//NONSGML v1.0//EN
CALSCALE:GREGORIAN
METHOD:PUBLISH
X-WR-CALNAME:National Criminal Justice Arts Alliance
X-ORIGINAL-URL:https://artsincriminaljustice.org.uk
X-WR-CALDESC:Events for National Criminal Justice Arts Alliance
REFRESH-INTERVAL;VALUE=DURATION:PT1H
X-Robots-Tag:noindex
X-PUBLISHED-TTL:PT1H
BEGIN:VTIMEZONE
TZID:Europe/London
BEGIN:DAYLIGHT
TZOFFSETFROM:+0000
TZOFFSETTO:+0100
TZNAME:BST
DTSTART:20180325T010000
END:DAYLIGHT
BEGIN:STANDARD
TZOFFSETFROM:+0100
TZOFFSETTO:+0000
TZNAME:GMT
DTSTART:20181028T010000
END:STANDARD
END:VTIMEZONE
BEGIN:VEVENT
DTSTART;TZID=Europe/London:20180504T100000
DTEND;TZID=Europe/London:20180506T170000
DTSTAMP:20260422T080827
CREATED:20180207T184702Z
LAST-MODIFIED:20180220T143323Z
UID:4012-1525428000-1525626000@artsincriminaljustice.org.uk
SUMMARY:The Artist’s Voice: the European Outsider Art Association Conference 2018
DESCRIPTION:Pallant House Gallery\nChichester\n4 – 6 May 2018\nBook now \nHosted by Outside In\, this year’s European Outsider Art Association Conference focuses on the Artist’s Voice\, celebrating the work of excluded and non-traditional artists and sharing best practice in the field through a series of presentations\, key note speeches\, and workshops delivered by artists and practitioners. The key note speech to open the conference on the Friday evening will be given by multi-disciplinary artist Bobby Baker\, who created the touring exhibition Diary Drawings: Mental Illness and Me 1997 – 2008\, and was commissioned as part of the London 2012 Unlimited project for the Cultural Olympiad.  \nPresenters at the conference include the Living Museum (the Netherlands)\, Out by Art (Sweden)\, Venture Arts (UK)\, Joy of Sound (UK)\, and Look Kloser (UK). Panel discussions will focus on supporting the artist’s voice and exhibiting the artist’s voice\, and panellists will include Garvald Artists (Scotland)\, Headway East London (UK)\, Arts Project Australia (Australia)\, Blue Circus (Finland)\, Creahm/MadMusee (Belgium)\, and Creative Minds (UK).  \nTickets are priced at £150 for the full weekend. There are options to add on a dinner at Pallant House Gallery following the key note speech on the Friday\, and you can join Outside In for a VIP programme in the days leading up to the conference for an additional £75. \nClick here to find out more and book your place
URL:https://artsincriminaljustice.org.uk/event/the-artists-voice-the-european-outsider-art-association-conference-2018/
LOCATION:Pallant House Gallery\, 9 N Pallant\, Chichester\, PO19 1TJ
CATEGORIES:Events and training
ATTACH;FMTTYPE=image/jpeg:https://artsincrimjustice.s3.eu-west-2.amazonaws.com/wp-content/uploads/2018/02/13114116/IMG_6562.jpg
END:VEVENT
END:VCALENDAR