BEGIN:VCALENDAR
VERSION:2.0
PRODID:-//National Criminal Justice Arts Alliance - ECPv6.3.5//NONSGML v1.0//EN
CALSCALE:GREGORIAN
METHOD:PUBLISH
X-WR-CALNAME:National Criminal Justice Arts Alliance
X-ORIGINAL-URL:https://artsincriminaljustice.org.uk
X-WR-CALDESC:Events for National Criminal Justice Arts Alliance
REFRESH-INTERVAL;VALUE=DURATION:PT1H
X-Robots-Tag:noindex
X-PUBLISHED-TTL:PT1H
BEGIN:VTIMEZONE
TZID:Europe/London
BEGIN:DAYLIGHT
TZOFFSETFROM:+0000
TZOFFSETTO:+0100
TZNAME:BST
DTSTART:20180325T010000
END:DAYLIGHT
BEGIN:STANDARD
TZOFFSETFROM:+0100
TZOFFSETTO:+0000
TZNAME:GMT
DTSTART:20181028T010000
END:STANDARD
END:VTIMEZONE
BEGIN:VEVENT
DTSTART;VALUE=DATE:20180116
DTEND;VALUE=DATE:20180321
DTSTAMP:20260422T124900
CREATED:20171115T180552Z
LAST-MODIFIED:20180105T151425Z
UID:3720-1516060800-1521590399@artsincriminaljustice.org.uk
SUMMARY:Introduction to acting
DESCRIPTION:Synergy Studio is offering a free ten-week accredited ‘Introduction to acting’ course for people with experience of the criminal justice system. The participants will learn techniques used by professional actors and explore them in fun practical sessions leading to a short performance to a small invited audience. No previous experience required\, just a commitment and a willingness to give it a go. \nThe course starts on January 16th 2017 and runs every Tuesday in the afternoon at Morley College in Lambeth. For more information and to sign up contact studio@synergytheatreproject.co.uk or call 0203 668 6730 \nPlease note the deadline to apply is Monday 8th January 2017
URL:https://artsincriminaljustice.org.uk/event/introduction-to-acting/
LOCATION:Morley College\, Lambeth\, London\, United Kingdom
CATEGORIES:Events and training
ATTACH;FMTTYPE=image/jpeg:https://artsincrimjustice.s3.eu-west-2.amazonaws.com/wp-content/uploads/2017/11/13114129/E-Flyer.jpg
END:VEVENT
BEGIN:VEVENT
DTSTART;TZID=Europe/London:20180126T090000
DTEND;TZID=Europe/London:20180331T170000
DTSTAMP:20260422T124900
CREATED:20180116T184646Z
LAST-MODIFIED:20180117T164353Z
UID:3956-1516957200-1522515600@artsincriminaljustice.org.uk
SUMMARY:Drawing Connections ...at the edges
DESCRIPTION:Radzinowicz Library\, Institute of Criminology\, Cambridge\n9am – 5pm\n26 January – 6 April 2018 \nDrawing Connections …at the edges ran from September – October 2017. Supported using public funding by the National Lottery through Arts Council England\, it brought together HMP Springhill prisoners and students from the art faculty at the local Banbury & Bicester College to work together through a series of six artist-led workshops\, held within prison grounds. \nRead more about the project on their blog here. \nA display of the project and selected works will be available to view at the Radzinowicz Library in Cambridge until 6 April. \nThe Radzinowicz Library also hosts a display of Koestler artworks. \n\nPlease arrange visits 48 hours ahead by emailing crimlib@hermes.cam.ac.uk.
URL:https://artsincriminaljustice.org.uk/event/drawing-connections-at-the-edges/
LOCATION:Radzinowicz Library\, Institute of Criminology\, University of Cambridge\, Sidgwick Avenue\, Cambridge\, CB3 9DA\, United Kingdom
CATEGORIES:Events and training
ATTACH;FMTTYPE=image/jpeg:https://artsincrimjustice.s3.eu-west-2.amazonaws.com/wp-content/uploads/2018/01/13114119/E7788442-E604-448C-82CC-F9CB360C2920.jpeg
END:VEVENT
END:VCALENDAR