BEGIN:VCALENDAR
VERSION:2.0
PRODID:-//National Criminal Justice Arts Alliance - ECPv6.3.5//NONSGML v1.0//EN
CALSCALE:GREGORIAN
METHOD:PUBLISH
X-ORIGINAL-URL:https://artsincriminaljustice.org.uk
X-WR-CALDESC:Events for National Criminal Justice Arts Alliance
REFRESH-INTERVAL;VALUE=DURATION:PT1H
X-Robots-Tag:noindex
X-PUBLISHED-TTL:PT1H
BEGIN:VTIMEZONE
TZID:Europe/London
BEGIN:DAYLIGHT
TZOFFSETFROM:+0000
TZOFFSETTO:+0100
TZNAME:BST
DTSTART:20170326T010000
END:DAYLIGHT
BEGIN:STANDARD
TZOFFSETFROM:+0100
TZOFFSETTO:+0000
TZNAME:GMT
DTSTART:20171029T010000
END:STANDARD
END:VTIMEZONE
BEGIN:VEVENT
DTSTART;VALUE=DATE:20170904
DTEND;VALUE=DATE:20171121
DTSTAMP:20260422T191121
CREATED:20170726T094743Z
LAST-MODIFIED:20170726T100002Z
UID:3584-1504483200-1511222399@artsincriminaljustice.org.uk
SUMMARY:Free courses for ex-prisoners with Synergy Theatre Project
DESCRIPTION:Synergy Theatre Project is offering two free ten week courses for ex-prisoners between September and November. Introduction to Film Production (4th September – 6th November) will look at different roles and departments working behind the scenes within the film industry\, and Introduction to Scriptwriting (18th September – 20th November) will support participants to bring their stories to life. No previous experience is required\, just a commitment and a willingness to give it a go. \nFor more information\, email info@synergytheatreproject.co.uk or call 0203 668 6730.
URL:https://artsincriminaljustice.org.uk/event/free-courses-for-ex-prisoners-with-synergy-theatre-project/
CATEGORIES:Events and training
ATTACH;FMTTYPE=image/jpeg:https://artsincrimjustice.s3.eu-west-2.amazonaws.com/wp-content/uploads/2017/07/13114143/synergyfilmprod.jpg
END:VEVENT
END:VCALENDAR