BEGIN:VCALENDAR
VERSION:2.0
PRODID:-//National Criminal Justice Arts Alliance - ECPv6.3.5//NONSGML v1.0//EN
CALSCALE:GREGORIAN
METHOD:PUBLISH
X-WR-CALNAME:National Criminal Justice Arts Alliance
X-ORIGINAL-URL:https://artsincriminaljustice.org.uk
X-WR-CALDESC:Events for National Criminal Justice Arts Alliance
REFRESH-INTERVAL;VALUE=DURATION:PT1H
X-Robots-Tag:noindex
X-PUBLISHED-TTL:PT1H
BEGIN:VTIMEZONE
TZID:Europe/London
BEGIN:DAYLIGHT
TZOFFSETFROM:+0000
TZOFFSETTO:+0100
TZNAME:BST
DTSTART:20170326T010000
END:DAYLIGHT
BEGIN:STANDARD
TZOFFSETFROM:+0100
TZOFFSETTO:+0000
TZNAME:GMT
DTSTART:20171029T010000
END:STANDARD
END:VTIMEZONE
BEGIN:VEVENT
DTSTART;VALUE=DATE:20170622
DTEND;VALUE=DATE:20170623
DTSTAMP:20260423T020601
CREATED:20170518T095858Z
LAST-MODIFIED:20170518T095858Z
UID:3492-1498089600-1498175999@artsincriminaljustice.org.uk
SUMMARY:Rewriting justice: an introduction to theatre writing in criminal justice settings
DESCRIPTION:This one day course\, delivered by Clean Break\, is for theatre artists\, early career playwrights and criminal justice professionals with an interest in the specialised field of theatre\, women and criminal justice. Through drama and theatre writing exercises\, group work and discussion\, participants will learn creative ideas and exercises\, explore best practice\, gain confidence and skills for managing challenging situations\, and hear insights about working in prisons. \n22nd June 2017\, London \n£55 – £85 \nClick here for more information. \n  \nImage courtesy of Tracey Anderson
URL:https://artsincriminaljustice.org.uk/event/rewriting-justice-an-introduction-to-theatre-writing-in-criminal-justice-settings/
CATEGORIES:Events and training
ATTACH;FMTTYPE=image/jpeg:https://artsincrimjustice.s3.eu-west-2.amazonaws.com/wp-content/uploads/2017/05/13114149/image-courtesy-of-Tracey-Anderson-2.jpg
END:VEVENT
END:VCALENDAR