BEGIN:VCALENDAR
VERSION:2.0
PRODID:-//National Criminal Justice Arts Alliance - ECPv6.3.5//NONSGML v1.0//EN
CALSCALE:GREGORIAN
METHOD:PUBLISH
X-WR-CALNAME:National Criminal Justice Arts Alliance
X-ORIGINAL-URL:https://artsincriminaljustice.org.uk
X-WR-CALDESC:Events for National Criminal Justice Arts Alliance
REFRESH-INTERVAL;VALUE=DURATION:PT1H
X-Robots-Tag:noindex
X-PUBLISHED-TTL:PT1H
BEGIN:VTIMEZONE
TZID:Europe/London
BEGIN:DAYLIGHT
TZOFFSETFROM:+0000
TZOFFSETTO:+0100
TZNAME:BST
DTSTART:20170326T010000
END:DAYLIGHT
BEGIN:STANDARD
TZOFFSETFROM:+0100
TZOFFSETTO:+0000
TZNAME:GMT
DTSTART:20171029T010000
END:STANDARD
END:VTIMEZONE
BEGIN:VEVENT
DTSTART;TZID=Europe/London:20170620T180000
DTEND;TZID=Europe/London:20170620T200000
DTSTAMP:20260423T020603
CREATED:20170614T090204Z
LAST-MODIFIED:20170614T090204Z
UID:3526-1497981600-1497988800@artsincriminaljustice.org.uk
SUMMARY:Rooms with a view: new perspectives through learning in prisons
DESCRIPTION:On 20th June\, the Prisoner Learning Academic Network and the University of Westminster are hosting a seminar looking at the role of the Prisoners’ Education Trust and distance learning in breaking down barriers between the inside and outside of prisons\, opening up new horizons with consequences for self-identity and for desistance processes. \nWhen? 20th June\, 6 – 8pm \nWhere? Room 401\, University of Westminster\, 309 Regent Street\, London\, W1B 2HT \nFor more information and to register\, email morwenna@prisonerseducation.org.uk
URL:https://artsincriminaljustice.org.uk/event/rooms-with-a-view-new-perspectives-through-learning-in-prisons/
CATEGORIES:Events and training
ATTACH;FMTTYPE=image/jpeg:https://artsincrimjustice.s3.eu-west-2.amazonaws.com/wp-content/uploads/2017/06/13114147/PLAN.jpg
END:VEVENT
END:VCALENDAR