BEGIN:VCALENDAR
VERSION:2.0
PRODID:-//National Criminal Justice Arts Alliance - ECPv6.3.5//NONSGML v1.0//EN
CALSCALE:GREGORIAN
METHOD:PUBLISH
X-WR-CALNAME:National Criminal Justice Arts Alliance
X-ORIGINAL-URL:https://artsincriminaljustice.org.uk
X-WR-CALDESC:Events for National Criminal Justice Arts Alliance
REFRESH-INTERVAL;VALUE=DURATION:PT1H
X-Robots-Tag:noindex
X-PUBLISHED-TTL:PT1H
BEGIN:VTIMEZONE
TZID:Europe/London
BEGIN:DAYLIGHT
TZOFFSETFROM:+0000
TZOFFSETTO:+0100
TZNAME:BST
DTSTART:20170326T010000
END:DAYLIGHT
BEGIN:STANDARD
TZOFFSETFROM:+0100
TZOFFSETTO:+0000
TZNAME:GMT
DTSTART:20171029T010000
END:STANDARD
END:VTIMEZONE
BEGIN:VEVENT
DTSTART;VALUE=DATE:20170609
DTEND;VALUE=DATE:20170610
DTSTAMP:20260423T020705
CREATED:20170330T133844Z
LAST-MODIFIED:20170330T133844Z
UID:3413-1496966400-1497052799@artsincriminaljustice.org.uk
SUMMARY:Reading in Prison Day
DESCRIPTION:Prison Reading Groups’ are holding their annual ‘reading in prison day’ at the University of Roehampton on 9th June\, with key themes including: putting the library at the heart of the prison\, reading and families\, and ‘why read?’ The event is for prison governors\, librarians and volunteers\, authors\, ex-prisoners and representatives of education and literacy organisations. It is free and includes lunch and refreshments. \nClick here for more information.
URL:https://artsincriminaljustice.org.uk/event/reading-in-prison-day/
CATEGORIES:Events and training
ATTACH;FMTTYPE=image/jpeg:https://artsincrimjustice.s3.eu-west-2.amazonaws.com/wp-content/uploads/2017/03/13114157/cropped-prg111.jpg
END:VEVENT
BEGIN:VEVENT
DTSTART;VALUE=DATE:20170609
DTEND;VALUE=DATE:20170610
DTSTAMP:20260423T020705
CREATED:20170518T100221Z
LAST-MODIFIED:20170518T100221Z
UID:3495-1496966400-1497052799@artsincriminaljustice.org.uk
SUMMARY:Information day: Voyage's Horizon Plus programme
DESCRIPTION:Voyage are holding an information day where delegates can find out more about their expanded Horizon Plus programme. The Horizon Plus programme will be offered as a structured summer intervention programme for two cohorts in August and as a day release course in November. It aims to provide a safe\, educational and developmental space for young people\, and has been developed to support effective compliance with young people’s sentencing and bail orders and conditions. Additionally\, the programme will include weekly mentoring for BAME young people aged between 15 and 19. \n9th June 2017\, London \nFREE \nClick here for more information. \n  \n(Image courtesy of Southbank Mosaics CIC)
URL:https://artsincriminaljustice.org.uk/event/information-day-voyages-horizon-plus-programme/
CATEGORIES:Events and training
END:VEVENT
END:VCALENDAR