BEGIN:VCALENDAR
VERSION:2.0
PRODID:-//National Criminal Justice Arts Alliance - ECPv6.3.5//NONSGML v1.0//EN
CALSCALE:GREGORIAN
METHOD:PUBLISH
X-WR-CALNAME:National Criminal Justice Arts Alliance
X-ORIGINAL-URL:https://artsincriminaljustice.org.uk
X-WR-CALDESC:Events for National Criminal Justice Arts Alliance
REFRESH-INTERVAL;VALUE=DURATION:PT1H
X-Robots-Tag:noindex
X-PUBLISHED-TTL:PT1H
BEGIN:VTIMEZONE
TZID:Europe/London
BEGIN:DAYLIGHT
TZOFFSETFROM:+0000
TZOFFSETTO:+0100
TZNAME:BST
DTSTART:20170326T010000
END:DAYLIGHT
BEGIN:STANDARD
TZOFFSETFROM:+0100
TZOFFSETTO:+0000
TZNAME:GMT
DTSTART:20171029T010000
END:STANDARD
END:VTIMEZONE
BEGIN:VEVENT
DTSTART;VALUE=DATE:20170605
DTEND;VALUE=DATE:20170606
DTSTAMP:20260423T020601
CREATED:20170518T095406Z
LAST-MODIFIED:20170518T095406Z
UID:3490-1496620800-1496707199@artsincriminaljustice.org.uk
SUMMARY:Women\, theatre and criminal justice: international perspectives and practices
DESCRIPTION:This day-long symposium is an invitation to artists\, academics\, policy makers and professionals working in criminal justice and women’s services to consider the distinctiveness of theatre practices that engage directly with women affected by the criminal justice system. Led by Clean Break and Queen Mary’s University\, delegates will have the chance to hear artists and academics from Australia\, South Africa and the UK talk about their practice and the socio-political conditions that shape it. Additionally\, the day offers an opportunity to develop research questions to inform the development of an international network addressing issues of women\, theatre and criminal justice. \n5th June 2017\, London  \nFREE \nClick here to book tickets.
URL:https://artsincriminaljustice.org.uk/event/women-theatre-and-criminal-justice-international-perspectives-and-practices/
CATEGORIES:Events and training
ATTACH;FMTTYPE=image/jpeg:https://artsincrimjustice.s3.eu-west-2.amazonaws.com/wp-content/uploads/2016/11/13114206/cleanbreklongford.jpg
END:VEVENT
END:VCALENDAR