BEGIN:VCALENDAR
VERSION:2.0
PRODID:-//National Criminal Justice Arts Alliance - ECPv6.3.5//NONSGML v1.0//EN
CALSCALE:GREGORIAN
METHOD:PUBLISH
X-WR-CALNAME:National Criminal Justice Arts Alliance
X-ORIGINAL-URL:https://artsincriminaljustice.org.uk
X-WR-CALDESC:Events for National Criminal Justice Arts Alliance
REFRESH-INTERVAL;VALUE=DURATION:PT1H
X-Robots-Tag:noindex
X-PUBLISHED-TTL:PT1H
BEGIN:VTIMEZONE
TZID:Europe/London
BEGIN:DAYLIGHT
TZOFFSETFROM:+0000
TZOFFSETTO:+0100
TZNAME:BST
DTSTART:20170326T010000
END:DAYLIGHT
BEGIN:STANDARD
TZOFFSETFROM:+0100
TZOFFSETTO:+0000
TZNAME:GMT
DTSTART:20171029T010000
END:STANDARD
END:VTIMEZONE
BEGIN:VEVENT
DTSTART;TZID=Europe/London:20170322T080000
DTEND;TZID=Europe/London:20170428T170000
DTSTAMP:20260423T052147
CREATED:20161117T112410Z
LAST-MODIFIED:20161117T112434Z
UID:3203-1490169600-1493398800@artsincriminaljustice.org.uk
SUMMARY:The Other Side of the Wall - Geese Theatre Company training
DESCRIPTION:Run by Geese Theatre Company\, the Other Side of the Wall is a three-day course on the use of theatre and drama with offenders and young people at risk of offending. Participants will experience and practice a variety of drama-based methods for use in group work\, while exploring some of the basic principles behind Geese’s work. \nThe course is limited to 10 participants. No previous drama or theatre experience is necessary; however a willingness to actively explore new methods of working is an essential requirement. \nThe next courses will be happening from 22nd – 24th March 2017 in Birmingham\, and 26th – 28th April 2017 in Edinburgh. \nClick here for more information on the course. \nThe cost of each course is £330 per person. For a booking form\, please email rosie@geese.co.uk\, and specify which location you’re interested in. \nImage courtesy of Geese Theatre Company
URL:https://artsincriminaljustice.org.uk/event/the-other-side-of-the-wall-geese-theatre-company-trainingg/
CATEGORIES:Events and training
END:VEVENT
BEGIN:VEVENT
DTSTART;TZID=Europe/London:20170412T080000
DTEND;TZID=Europe/London:20170412T170000
DTSTAMP:20260423T052147
CREATED:20170412T155427Z
LAST-MODIFIED:20170412T155427Z
UID:3468-1491984000-1492016400@artsincriminaljustice.org.uk
SUMMARY:Free four week radio drama project for ex-prisoners
DESCRIPTION:Synergy Studio is offering a free four week radio drama project for ex-prisoners starting this May. Taking inspiration from the V&A’s major exhibition on Pink Floyd\, participants will learn how to write a short drama for radio. Each participant will get to record their drama in a professional radio production studio. No previous experience is necessary\, just a commitment and a willingness to give it a try. The course starts on 18th May and runs in London every Tuesday and Thursday afternoon until 15th June 2017. \nThe deadline to apply is Friday 12th May. \nFor more information or to book a place\, email info@synergytheatreproject.co.uk.
URL:https://artsincriminaljustice.org.uk/event/free-four-week-radio-drama-project-for-ex-prisoners/
CATEGORIES:Events and training
ATTACH;FMTTYPE=image/jpeg:https://artsincrimjustice.s3.eu-west-2.amazonaws.com/wp-content/uploads/2017/04/13114151/maysynergyflyer.jpg
END:VEVENT
END:VCALENDAR