BEGIN:VCALENDAR
VERSION:2.0
PRODID:-//National Criminal Justice Arts Alliance - ECPv6.3.5//NONSGML v1.0//EN
CALSCALE:GREGORIAN
METHOD:PUBLISH
X-WR-CALNAME:National Criminal Justice Arts Alliance
X-ORIGINAL-URL:https://artsincriminaljustice.org.uk
X-WR-CALDESC:Events for National Criminal Justice Arts Alliance
REFRESH-INTERVAL;VALUE=DURATION:PT1H
X-Robots-Tag:noindex
X-PUBLISHED-TTL:PT1H
BEGIN:VTIMEZONE
TZID:Europe/London
BEGIN:DAYLIGHT
TZOFFSETFROM:+0000
TZOFFSETTO:+0100
TZNAME:BST
DTSTART:20170326T010000
END:DAYLIGHT
BEGIN:STANDARD
TZOFFSETFROM:+0100
TZOFFSETTO:+0000
TZNAME:GMT
DTSTART:20171029T010000
END:STANDARD
END:VTIMEZONE
BEGIN:VEVENT
DTSTART;TZID=Europe/London:20170113T090000
DTEND;TZID=Europe/London:20170326T214500
DTSTAMP:20260423T065227
CREATED:20161214T094223Z
LAST-MODIFIED:20161214T094223Z
UID:3242-1484298000-1490564700@artsincriminaljustice.org.uk
SUMMARY:Beyond the Door: the Koestler exhibition for the West Midlands
DESCRIPTION:Beyond the Door is an exhibition of artwork\, writing and music from prisons\,\nsecure hospitals\, and by people on community sentences in the West Midlands.\nThe work on display has been selected by Walsall Youth Justice Service from entries to the 2016 Koestler Awards\, an annual scheme that has been rewarding\nartistic achievement in the criminal justice and secure sectors for over 50 years. \nThe exhibition is at mac birmingham\, Cannon Hill Park\, Birmingham\, from 13th January – 26th March 2017. Open daily 9am – 9.45pm (free entry).
URL:https://artsincriminaljustice.org.uk/event/beyond-the-door-the-koestler-exhibition-for-the-west-midlands/
CATEGORIES:Events and training
ATTACH;FMTTYPE=image/jpeg:https://artsincrimjustice.s3.eu-west-2.amazonaws.com/wp-content/uploads/2016/12/13114205/beyond-the-door.jpg
END:VEVENT
BEGIN:VEVENT
DTSTART;TZID=Europe/London:20170125T130000
DTEND;TZID=Europe/London:20170405T153000
DTSTAMP:20260423T065227
CREATED:20161129T091523Z
LAST-MODIFIED:20161129T091523Z
UID:3228-1485349200-1491406200@artsincriminaljustice.org.uk
SUMMARY:Free ten-week acting course for ex-prisoners
DESCRIPTION:Synergy Studio is offering a free ten-week introduction to acting course for ex-prisoners starting in January. Participants will learn techniques used by professional actors and explore them in fun\, practical sessions\, leading to a short performance for an invited audience. This course is accredited and provides opportunities for further progression in acting. No previous experience is required\, just a commitment and a willingness to join in. The course will run every Wednesday from 1 – 3.30pm. \nFor more information\, please contact denise@synergytheatreproject.co.uk or call 0203 668 6730. \nThe deadline for applications is 13th January 2017.
URL:https://artsincriminaljustice.org.uk/event/free-ten-week-acting-course-for-ex-prisoners/
CATEGORIES:Events and training
ATTACH;FMTTYPE=image/jpeg:https://artsincrimjustice.s3.eu-west-2.amazonaws.com/wp-content/uploads/2016/11/13114207/synergy-acting-course.jpg
END:VEVENT
BEGIN:VEVENT
DTSTART;VALUE=DATE:20170221
DTEND;VALUE=DATE:20170315
DTSTAMP:20260423T065227
CREATED:20170202T154226Z
LAST-MODIFIED:20170202T154226Z
UID:3339-1487635200-1489535999@artsincriminaljustice.org.uk
SUMMARY:Homecomings: Synergy's festival of new plays by ex-prisoners
DESCRIPTION:Homecomings features premières of two new plays of addicts heading home to the people\, places and things that landed them in trouble.  These headline a month of plays\, talks and readings. \nGLORY WHISPERS \nBy Sonya Hale\nDirected by Juliet Knight\n21 February – 4 March \nAn unexpected reunion with Glory brings hope to Mina.  If she can stay clean and Glory can bring up a kid then maybe even mad Jonno can fix up and they can be a family again.  But sacrifices\, secrets and survival can get in the way of your dreams. \nTHE MONKEY  \nBy John Stanley\nDirected by Russell Bolam\n7 to 18 March \nTel’s left Bermondsey behind and only robs the occasional drum now.  He prefers dealing in moody clobber from Deptford.  But he’s got a screw loose and word’s out he’s a soft touch.  Thick-Al owes him a monkey and he has to revisit old hunting grounds to collect. \nREHEARSED READING: The Political History of Smack and Crack by Ed Jones \n27 February 7.45pm\, Pay What You Can \nPRE-SHOW TALKS: \nOLD HABITS DIE HARD: Does going home after prison jeopardise recovery?\n28 February 6.30pm\, free with a show ticket \nREWRITING JUSTICE: Finding\, developing and producing voices emerging from prison\n14 March 6.30pm\, free with a show ticket \n— \nTickets £15/£12 or see both plays for £20 using promotional code Synergy.  Book online for Glory Whispers and The Monkey  or call Box Office on 020 7978 7040.
URL:https://artsincriminaljustice.org.uk/event/homecomings-synergys-festival-of-new-plays-by-ex-prisoners/
CATEGORIES:Events and training
ATTACH;FMTTYPE=image/jpeg:https://artsincrimjustice.s3.eu-west-2.amazonaws.com/wp-content/uploads/2017/02/13114203/Glory-web-image.jpg
END:VEVENT
END:VCALENDAR