BEGIN:VCALENDAR
VERSION:2.0
PRODID:-//National Criminal Justice Arts Alliance - ECPv6.3.5//NONSGML v1.0//EN
CALSCALE:GREGORIAN
METHOD:PUBLISH
X-WR-CALNAME:National Criminal Justice Arts Alliance
X-ORIGINAL-URL:https://artsincriminaljustice.org.uk
X-WR-CALDESC:Events for National Criminal Justice Arts Alliance
REFRESH-INTERVAL;VALUE=DURATION:PT1H
X-Robots-Tag:noindex
X-PUBLISHED-TTL:PT1H
BEGIN:VTIMEZONE
TZID:Europe/London
BEGIN:DAYLIGHT
TZOFFSETFROM:+0000
TZOFFSETTO:+0100
TZNAME:BST
DTSTART:20160327T010000
END:DAYLIGHT
BEGIN:STANDARD
TZOFFSETFROM:+0100
TZOFFSETTO:+0000
TZNAME:GMT
DTSTART:20161030T010000
END:STANDARD
END:VTIMEZONE
BEGIN:VEVENT
DTSTART;TZID=Europe/London:20161122T180000
DTEND;TZID=Europe/London:20161122T220000
DTSTAMP:20260423T125835
CREATED:20161026T115111Z
LAST-MODIFIED:20161026T115111Z
UID:3183-1479837600-1479852000@artsincriminaljustice.org.uk
SUMMARY:Celebrating 21 years of music in prisons and beyond
DESCRIPTION:The Irene Taylor Trust is celebrating 21 years of its work in prisons (Music in Prisons) and now also in the community with ex-prisoners (Sounding Out) and young people in challenging circumstances (Making Tracks) with an exciting and eclectic evening of live music at London’s Union Chapel on 22nd November 2016. \nThe evening will feature performances from Sounding Out ex-prisoner band Platform 7 and Making Tracks participants\, alongside special guests including Mercury Prize winner Speech Debelle\, and Chaps Choir singing Music in Prisons songs\, hosted by Guardian journalist Tim Dowling. \nThe centrepiece of the celebration is a new piece of music and film\, Bridges; the music was created by participants from Music in Prisons\, Sounding Out and Making Tracks in collaboration with contemporary composer Mark-Anthony Turnage; the accompanying film by artist Lizzie Coombes and filmmaker Andy Wood captures the three groups during the creative process. Mark-Anthony Turnage has also re-orchestrated Bridges for a world exclusive one-off live performance by an ensemble of Royal Academy of Music musicians that is not to be missed. \nFull details about the evening and how to book tickets are here; http://bit.ly/ITTunionc \nImage courtesy of the Irene Taylor Trust
URL:https://artsincriminaljustice.org.uk/event/celebrating-21-years-of-music-in-prisons-and-beyond/
CATEGORIES:Events and training
ATTACH;FMTTYPE=image/jpeg:https://artsincrimjustice.s3.eu-west-2.amazonaws.com/wp-content/uploads/2016/10/13114210/1-SOUNDING-OUT-LizzieCoombes-098.jpg
END:VEVENT
END:VCALENDAR