BEGIN:VCALENDAR
VERSION:2.0
PRODID:-//National Criminal Justice Arts Alliance - ECPv6.3.5//NONSGML v1.0//EN
CALSCALE:GREGORIAN
METHOD:PUBLISH
X-WR-CALNAME:National Criminal Justice Arts Alliance
X-ORIGINAL-URL:https://artsincriminaljustice.org.uk
X-WR-CALDESC:Events for National Criminal Justice Arts Alliance
REFRESH-INTERVAL;VALUE=DURATION:PT1H
X-Robots-Tag:noindex
X-PUBLISHED-TTL:PT1H
BEGIN:VTIMEZONE
TZID:Europe/London
BEGIN:DAYLIGHT
TZOFFSETFROM:+0000
TZOFFSETTO:+0100
TZNAME:BST
DTSTART:20160327T010000
END:DAYLIGHT
BEGIN:STANDARD
TZOFFSETFROM:+0100
TZOFFSETTO:+0000
TZNAME:GMT
DTSTART:20161030T010000
END:STANDARD
END:VTIMEZONE
BEGIN:VEVENT
DTSTART;TZID=Europe/London:20160915T090000
DTEND;TZID=Europe/London:20160915T120000
DTSTAMP:20260423T155857
CREATED:20160906T095237Z
LAST-MODIFIED:20160906T095237Z
UID:3029-1473930000-1473940800@artsincriminaljustice.org.uk
SUMMARY:Arts tutor seminar for visual arts tutors
DESCRIPTION:Each year the Koestler Trust run an Arts Tutor Seminar for Visual Art Tutors working within prisons. This year’s seminar will take place on the morning of our Exhibition’s public opening on Thursday 15th September at the Southbank Centre. The Seminar will provide delegates with a valuable opportunity to network and learn from each other\, share best practice and update on current issues in the field\, guest speakers will also be in attendance. If you would like to attend please email smatheve@koestlertrust.org.uk for more information.
URL:https://artsincriminaljustice.org.uk/event/arts-tutor-seminar-for-visual-arts-tutors/
CATEGORIES:Events and training
ATTACH;FMTTYPE=image/jpeg:https://artsincrimjustice.s3.eu-west-2.amazonaws.com/wp-content/uploads/2016/09/13114243/koestlertutorevent-scaled.jpg
END:VEVENT
BEGIN:VEVENT
DTSTART;TZID=Europe/London:20160915T090000
DTEND;TZID=Europe/London:20160916T170000
DTSTAMP:20260423T155857
CREATED:20160810T121931Z
LAST-MODIFIED:20160810T135511Z
UID:1994-1473930000-1474045200@artsincriminaljustice.org.uk
SUMMARY:BARRED: a new play by Dean Stalham
DESCRIPTION:Barred\, a new play by Dean Stalham will be taking place at the Brady Arts Centre in London on 15th and 16th September. \nFor more information\, please email carlotta@stretch-charity.org
URL:https://artsincriminaljustice.org.uk/event/barred-a-new-play-by-dean-stalham/
CATEGORIES:Events and training
ATTACH;FMTTYPE=image/jpeg:https://artsincrimjustice.s3.eu-west-2.amazonaws.com/wp-content/uploads/2016/08/13114254/barred.jpg
END:VEVENT
BEGIN:VEVENT
DTSTART;TZID=Europe/London:20160915T100000
DTEND;TZID=Europe/London:20161113T170000
DTSTAMP:20260423T155857
CREATED:20160810T135211Z
LAST-MODIFIED:20160810T135225Z
UID:2029-1473933600-1479056400@artsincriminaljustice.org.uk
SUMMARY:We are all human: a Koestler Trust exhibition at the Southbank Centre
DESCRIPTION:‘We are all human’ is the UK’s annual national showcase of arts by prisoners\, ex-offenders on community sentences\, secure psychiatric patients and immigration detainees. It is the ninth exhibition in an ongoing partnership between the Koestler Trust and Southbank Centre. \nThis year’s show was curated by writer and dub-poet Benjamin Zephaniah. The exhibition features a wide range of artforms including painting\, drawing\, matchstick modelling\, craft\, music and writing\, exploring themes of time\, contemplation and the natural environment. \nClick here for more information
URL:https://artsincriminaljustice.org.uk/event/we-are-all-human-a-koestler-trust-exhibition-at-the-southbank-centre/
CATEGORIES:Events and training
END:VEVENT
END:VCALENDAR